Name | Last modified | Size | Description | |
---|---|---|---|---|
Parent Directory | - | |||
buildbin-out.txt | 20-Oct-2022 02:23 | 15K | ||
buildbin-summary.dcf | 20-Oct-2022 02:23 | 509 | ||
buildsrc-out.txt | 20-Oct-2022 02:23 | 833 | ||
buildsrc-summary.dcf | 20-Oct-2022 02:23 | 416 | ||
checksrc-out.txt | 20-Oct-2022 02:23 | 3.7K | ||
checksrc-summary.dcf | 20-Oct-2022 02:23 | 435 | ||
install-out.txt | 20-Oct-2022 02:23 | 15K | ||
install-summary.dcf | 20-Oct-2022 02:23 | 262 | ||