Name | Last modified | Size | Description | |
---|---|---|---|---|
Parent Directory | - | |||
buildsrc-out.txt | 20-Oct-2022 02:20 | 836 | ||
buildsrc-summary.dcf | 20-Oct-2022 02:20 | 418 | ||
checksrc-out.txt | 20-Oct-2022 02:20 | 3.5K | ||
checksrc-summary.dcf | 20-Oct-2022 02:20 | 423 | ||
install-out.txt | 20-Oct-2022 02:20 | 9.6K | ||
install-summary.dcf | 20-Oct-2022 02:20 | 259 | ||