Name | Last modified | Size | Description | |
---|---|---|---|---|
Parent Directory | - | |||
install-out.txt | 19-Mar-2022 00:08 | 6.3K | ||
install-summary.dcf | 19-Mar-2022 00:08 | 270 | ||
buildsrc-out.txt | 19-Mar-2022 00:08 | 1.0K | ||
buildsrc-summary.dcf | 19-Mar-2022 00:08 | 456 | ||
checksrc-summary.dcf | 19-Mar-2022 00:08 | 451 | ||
checksrc-out.txt | 19-Mar-2022 00:08 | 3.2K | ||
buildbin-out.txt | 19-Mar-2022 00:08 | 6.2K | ||
buildbin-summary.dcf | 19-Mar-2022 00:08 | 521 | ||