Name | Last modified | Size | Description | |
---|---|---|---|---|
Parent Directory | - | |||
buildsrc-out.txt | 20-Oct-2022 02:20 | 971 | ||
buildsrc-summary.dcf | 20-Oct-2022 02:20 | 420 | ||
checksrc-out.txt | 20-Oct-2022 02:20 | 3.4K | ||
checksrc-summary.dcf | 20-Oct-2022 02:20 | 427 | ||
install-out.txt | 20-Oct-2022 02:20 | 1.0K | ||
install-summary.dcf | 20-Oct-2022 02:20 | 260 | ||