Name | Last modified | Size | Description | |
---|---|---|---|---|
Parent Directory | - | |||
buildbin-summary.dcf | 20-Oct-2022 02:23 | 551 | ||
buildbin-out.txt | 20-Oct-2022 02:23 | 3.9K | ||
checksrc-summary.dcf | 20-Oct-2022 02:23 | 458 | ||
checksrc-out.txt | 20-Oct-2022 02:23 | 3.2K | ||
buildsrc-summary.dcf | 20-Oct-2022 02:23 | 437 | ||
buildsrc-out.txt | 20-Oct-2022 02:23 | 919 | ||
install-summary.dcf | 20-Oct-2022 02:23 | 276 | ||
install-out.txt | 20-Oct-2022 02:23 | 3.0K | ||