Name | Last modified | Size | Description | |
---|---|---|---|---|
Parent Directory | - | |||
install-out.txt | 19-Mar-2022 00:08 | 2.2K | ||
install-summary.dcf | 19-Mar-2022 00:08 | 287 | ||
buildsrc-out.txt | 19-Mar-2022 00:08 | 888 | ||
buildsrc-summary.dcf | 19-Mar-2022 00:08 | 490 | ||
checksrc-out.txt | 19-Mar-2022 00:08 | 4.0K | ||
checksrc-summary.dcf | 19-Mar-2022 00:08 | 491 | ||
buildbin-out.txt | 19-Mar-2022 00:08 | 2.2K | ||
buildbin-summary.dcf | 19-Mar-2022 00:08 | 572 | ||