Name | Last modified | Size | Description | |
---|---|---|---|---|
Parent Directory | - | |||
buildbin-out.txt | 19-Mar-2022 00:07 | 1.4K | ||
buildbin-summary.dcf | 19-Mar-2022 00:07 | 494 | ||
buildsrc-out.txt | 19-Mar-2022 00:07 | 883 | ||
buildsrc-summary.dcf | 19-Mar-2022 00:07 | 438 | ||
checksrc-out.txt | 19-Mar-2022 00:07 | 3.1K | ||
checksrc-summary.dcf | 19-Mar-2022 00:07 | 433 | ||
install-out.txt | 19-Mar-2022 00:07 | 1.3K | ||
install-summary.dcf | 19-Mar-2022 00:07 | 261 | ||