Name | Last modified | Size | Description | |
---|---|---|---|---|
Parent Directory | - | |||
install-summary.dcf | 19-Mar-2022 00:07 | 265 | ||
install-out.txt | 19-Mar-2022 00:07 | 1.6K | ||
checksrc-summary.dcf | 19-Mar-2022 00:07 | 441 | ||
checksrc-out.txt | 19-Mar-2022 00:07 | 3.4K | ||
buildsrc-summary.dcf | 19-Mar-2022 00:07 | 445 | ||
buildsrc-out.txt | 19-Mar-2022 00:07 | 870 | ||
buildbin-summary.dcf | 19-Mar-2022 00:07 | 506 | ||
buildbin-out.txt | 19-Mar-2022 00:07 | 1.6K | ||