Index of /checkResults/3.15/bioc-LATEST/Herper/raw-results/merida1
Name
Last modified
Size
Description
Parent Directory
-
buildsrc-out.txt
20-Oct-2022 02:23
650
buildsrc-summary.dcf
20-Oct-2022 02:23
347
install-out.txt
20-Oct-2022 02:23
1.0K
install-summary.dcf
20-Oct-2022 02:23
266