Name | Last modified | Size | Description | |
---|---|---|---|---|
Parent Directory | - | |||
install-summary.dcf | 19-Mar-2022 00:07 | 261 | ||
install-out.txt | 19-Mar-2022 00:07 | 4.2K | ||
checksrc-summary.dcf | 19-Mar-2022 00:07 | 433 | ||
checksrc-out.txt | 19-Mar-2022 00:07 | 4.2K | ||
buildsrc-summary.dcf | 19-Mar-2022 00:07 | 438 | ||
buildsrc-out.txt | 19-Mar-2022 00:07 | 915 | ||
buildbin-summary.dcf | 19-Mar-2022 00:07 | 494 | ||
buildbin-out.txt | 19-Mar-2022 00:07 | 4.1K | ||