Name | Last modified | Size | Description | |
---|---|---|---|---|
Parent Directory | - | |||
buildbin-out.txt | 20-Oct-2022 02:21 | 3.7K | ||
buildbin-summary.dcf | 20-Oct-2022 02:21 | 494 | ||
buildsrc-out.txt | 20-Oct-2022 02:21 | 915 | ||
buildsrc-summary.dcf | 20-Oct-2022 02:21 | 437 | ||
checksrc-out.txt | 20-Oct-2022 02:21 | 4.3K | ||
checksrc-summary.dcf | 20-Oct-2022 02:21 | 433 | ||
install-out.txt | 20-Oct-2022 02:21 | 3.6K | ||
install-summary.dcf | 20-Oct-2022 02:21 | 261 | ||