Name | Last modified | Size | Description | |
---|---|---|---|---|
Parent Directory | - | |||
buildbin-out.txt | 19-Mar-2022 00:07 | 1.5K | ||
buildbin-summary.dcf | 19-Mar-2022 00:07 | 547 | ||
buildsrc-out.txt | 19-Mar-2022 00:07 | 868 | ||
buildsrc-summary.dcf | 19-Mar-2022 00:07 | 473 | ||
checksrc-out.txt | 19-Mar-2022 00:07 | 3.3K | ||
checksrc-summary.dcf | 19-Mar-2022 00:07 | 474 | ||
install-out.txt | 19-Mar-2022 00:07 | 1.4K | ||
install-summary.dcf | 19-Mar-2022 00:07 | 279 | ||