Name | Last modified | Size | Description | |
---|---|---|---|---|
Parent Directory | - | |||
install-summary.dcf | 20-Oct-2022 02:21 | 264 | ||
buildsrc-summary.dcf | 20-Oct-2022 02:21 | 445 | ||
checksrc-summary.dcf | 20-Oct-2022 02:21 | 445 | ||
buildbin-summary.dcf | 20-Oct-2022 02:21 | 503 | ||
buildsrc-out.txt | 20-Oct-2022 02:21 | 889 | ||
install-out.txt | 20-Oct-2022 02:21 | 1.1K | ||
buildbin-out.txt | 20-Oct-2022 02:21 | 1.3K | ||
checksrc-out.txt | 20-Oct-2022 02:21 | 4.3K | ||