Name | Last modified | Size | Description | |
---|---|---|---|---|
Parent Directory | - | |||
install-out.txt | 20-Oct-2022 02:22 | 1.1K | ||
install-summary.dcf | 20-Oct-2022 02:22 | 265 | ||
buildsrc-out.txt | 20-Oct-2022 02:22 | 871 | ||
buildsrc-summary.dcf | 20-Oct-2022 02:22 | 422 | ||
checksrc-out.txt | 20-Oct-2022 02:22 | 4.4K | ||
checksrc-summary.dcf | 20-Oct-2022 02:22 | 442 | ||
buildbin-out.txt | 20-Oct-2022 02:22 | 1.3K | ||
buildbin-summary.dcf | 20-Oct-2022 02:22 | 518 | ||