Name | Last modified | Size | Description | |
---|---|---|---|---|
Parent Directory | - | |||
buildbin-out.txt | 19-Mar-2022 00:07 | 11K | ||
buildbin-summary.dcf | 19-Mar-2022 00:07 | 517 | ||
buildsrc-out.txt | 19-Mar-2022 00:07 | 935 | ||
buildsrc-summary.dcf | 19-Mar-2022 00:07 | 455 | ||
checksrc-out.txt | 19-Mar-2022 00:07 | 5.0K | ||
checksrc-summary.dcf | 19-Mar-2022 00:07 | 449 | ||
install-out.txt | 19-Mar-2022 00:07 | 11K | ||
install-summary.dcf | 19-Mar-2022 00:07 | 270 | ||