Name | Last modified | Size | Description | |
---|---|---|---|---|
Parent Directory | - | |||
buildbin-out.txt | 17-Mar-2022 00:07 | 18K | ||
buildbin-summary.dcf | 17-Mar-2022 00:07 | 515 | ||
buildsrc-out.txt | 19-Mar-2022 00:07 | 2.3K | ||
buildsrc-summary.dcf | 19-Mar-2022 00:07 | 368 | ||
checksrc-out.txt | 17-Mar-2022 00:07 | 5.4K | ||
checksrc-summary.dcf | 17-Mar-2022 00:07 | 446 | ||
install-out.txt | 19-Mar-2022 00:07 | 18K | ||
install-summary.dcf | 19-Mar-2022 00:07 | 268 | ||