Name | Last modified | Size | Description | |
---|---|---|---|---|
Parent Directory | - | |||
buildbin-out.txt | 20-Oct-2022 02:22 | 1.6K | ||
buildbin-summary.dcf | 20-Oct-2022 02:22 | 549 | ||
buildsrc-out.txt | 20-Oct-2022 02:22 | 828 | ||
buildsrc-summary.dcf | 20-Oct-2022 02:22 | 437 | ||
checksrc-out.txt | 20-Oct-2022 02:22 | 6.6K | ||
checksrc-summary.dcf | 20-Oct-2022 02:22 | 462 | ||
install-out.txt | 20-Oct-2022 02:22 | 1.4K | ||
install-summary.dcf | 20-Oct-2022 02:22 | 275 | ||