Name | Last modified | Size | Description | |
---|---|---|---|---|
Parent Directory | - | |||
buildbin-out.txt | 20-Oct-2022 02:22 | 4.9K | ||
buildbin-summary.dcf | 20-Oct-2022 02:22 | 560 | ||
buildsrc-out.txt | 20-Oct-2022 02:22 | 764 | ||
buildsrc-summary.dcf | 20-Oct-2022 02:22 | 441 | ||
checksrc-out.txt | 20-Oct-2022 02:22 | 4.3K | ||
checksrc-summary.dcf | 20-Oct-2022 02:22 | 469 | ||
install-out.txt | 20-Oct-2022 02:22 | 4.7K | ||
install-summary.dcf | 20-Oct-2022 02:22 | 279 | ||