Name | Last modified | Size | Description | |
---|---|---|---|---|
Parent Directory | - | |||
buildsrc-out.txt | 20-Oct-2022 02:19 | 870 | ||
buildsrc-summary.dcf | 20-Oct-2022 02:19 | 441 | ||
checksrc-out.txt | 20-Oct-2022 02:19 | 3.3K | ||
checksrc-summary.dcf | 20-Oct-2022 02:19 | 456 | ||
install-out.txt | 20-Oct-2022 02:19 | 971 | ||
install-summary.dcf | 20-Oct-2022 02:19 | 275 | ||