Index of /checkResults/3.15/bioc-LATEST/Autotuner/raw-results/riesling1
Name
Last modified
Size
Description
Parent Directory
-
install-summary.dcf
19-Mar-2022 00:06
271
install-out.txt
19-Mar-2022 00:06
3.5K
buildsrc-summary.dcf
19-Mar-2022 00:06
373
buildsrc-out.txt
19-Mar-2022 00:06
1.2K