Name | Last modified | Size | Description | |
---|---|---|---|---|
Parent Directory | - | |||
install-summary.dcf | 20-Oct-2022 02:19 | 275 | ||
buildsrc-summary.dcf | 20-Oct-2022 02:19 | 441 | ||
checksrc-summary.dcf | 20-Oct-2022 02:19 | 462 | ||
buildsrc-out.txt | 20-Oct-2022 02:19 | 868 | ||
checksrc-out.txt | 20-Oct-2022 02:19 | 12K | ||
install-out.txt | 20-Oct-2022 02:19 | 18K | ||