Name | Last modified | Size | Description | |
---|---|---|---|---|
Parent Directory | - | |||
install-summary.dcf | 20-Oct-2022 02:22 | 285 | ||
buildsrc-summary.dcf | 20-Oct-2022 02:22 | 451 | ||
checksrc-summary.dcf | 20-Oct-2022 02:22 | 482 | ||
buildbin-summary.dcf | 20-Oct-2022 02:22 | 578 | ||
buildsrc-out.txt | 20-Oct-2022 02:22 | 878 | ||
checksrc-out.txt | 20-Oct-2022 02:22 | 12K | ||
install-out.txt | 20-Oct-2022 02:22 | 15K | ||
buildbin-out.txt | 20-Oct-2022 02:22 | 16K | ||