Name | Last modified | Size | Description | |
---|---|---|---|---|
Parent Directory | - | |||
checksrc-out.txt | 15-Oct-2022 02:22 | 4.7K | ||
buildsrc-out.txt | 20-Oct-2022 02:22 | 2.2K | ||
buildbin-out.txt | 15-Oct-2022 02:22 | 1.2K | ||
install-out.txt | 20-Oct-2022 02:22 | 1.0K | ||
buildbin-summary.dcf | 15-Oct-2022 02:22 | 560 | ||
checksrc-summary.dcf | 15-Oct-2022 02:22 | 464 | ||
buildsrc-summary.dcf | 20-Oct-2022 02:22 | 353 | ||
install-summary.dcf | 20-Oct-2022 02:22 | 279 | ||