Index of /checkResults/3.15/bioc-LATEST/ABAEnrichment/raw-results/merida1
Name
Last modified
Size
Description
Parent Directory
-
buildsrc-out.txt
20-Oct-2022 02:22
934
install-out.txt
20-Oct-2022 02:22
699
buildsrc-summary.dcf
20-Oct-2022 02:22
354
install-summary.dcf
20-Oct-2022 02:22
283