Multiple platform build/check report for BioC 3.15

This page was generated on 2021-11-25 14:05:56 -0500 (Thu, 25 Nov 2021).

Approx. Package Snapshot Date (git pull): 2021-11-24 14:50:13 -0500 (Wed, 24 Nov 2021)

HostnameOSArch (*)Platform label (**)R versionInstalled pkgs
nebbiolo1Linux (Ubuntu 20.04.3 LTS)x86_64x86_64-linux-gnuR Under development (unstable) (2021-11-10 r81171) -- "Unsuffered Consequences" 4298
riesling1Windows Server 2019 Standardx64mingw32 / x86_64-w64-mingw32R Under development (unstable) (2021-11-21 r81221) -- "Unsuffered Consequences" 4030
merida1macOS 10.14.6 Mojavex86_64x86_64-apple-darwin18.7.0R Under development (unstable) (2021-11-01 r81125) -- "Unsuffered Consequences" 4113
Click on any hostname to see more info about the system (e.g. compilers)      (*) as reported by 'uname -p', except on Windows and Mac OS X      (**) as reported by 'gcc -v'

Package status is indicated by one of the following glyphs
  TIMEOUT  
INSTALL, BUILD, CHECK or BUILD BIN of package took more than 40 minutes
  ERROR  
Bad DESCRIPTION file or INSTALL, BUILD or BUILD BIN of package failed, or CHECK produced errors
  WARNINGS  
CHECK of package produced warnings
  OK  
INSTALL, BUILD, CHECK or BUILD BIN of package was OK
skipped
CHECK or BUILD BIN of package was skipped because the BUILD step failed
  NA  
BUILD, CHECK or BUILD BIN result is not available because of an anomaly in the Build System
Click on any glyph in the report below to access the detailed report.
Package propagation status is indicated by one of the following LEDs
YES YES: Package was propagated because it didn't previously exist or version was bumped
NO NO: Package was not propagated because of a problem (impossible dependencies, or version lower than what is already propagated)
UNNEEDED UNNEEDED: Package was not propagated because it is already in the repository with this version. A version bump is required in order to propagate it

A crossed-out package name indicates the package is deprecated


QUICK STATSOS / ArchINSTALLBUILDCHECKBUILD BIN
nebbiolo1Linux (Ubuntu 20.04.3 LTS) / x86_64
0102058
2632003
0452991659
riesling1Windows Server 2019 Standard / x64
0172025
1831958
1482951614
001958
merida1macOS 10.14.6 Mojave / x86_64
0112048
2671990
1562931640
001990
A
ABCDEFGHIJKLMNOPQRSTUVWXYZ
Package 1/2068HostnameOS / ArchINSTALLBUILDCHECKBUILD BIN
a4 1.43.0  (landing page)
Laure Cougnaud
git_last_commit: e5d77e3
git_last_commit_date: 2021-10-26 11:59:01 -0500
nebbiolo1Linux (Ubuntu 20.04.3 LTS) / x86_64  OK    OK    OK  UNNEEDED, same version is already published
riesling1Windows Server 2019 Standard / x64  OK    OK    OK    OK  
merida1macOS 10.14.6 Mojave / x86_64  OK    OK    OK    OK  UNNEEDED, same version is already published
Package 2/2068HostnameOS / ArchINSTALLBUILDCHECKBUILD BIN
a4Base 1.43.0  (landing page)
Laure Cougnaud
git_last_commit: c0d3b29
git_last_commit_date: 2021-10-26 11:58:48 -0500
nebbiolo1Linux (Ubuntu 20.04.3 LTS) / x86_64  OK    OK    OK  UNNEEDED, same version is already published
riesling1Windows Server 2019 Standard / x64  OK    OK    OK    OK  
merida1macOS 10.14.6 Mojave / x86_64  OK    OK    OK    OK  UNNEEDED, same version is already published
Package 3/2068HostnameOS / ArchINSTALLBUILDCHECKBUILD BIN
a4Classif 1.43.0  (landing page)
Laure Cougnaud
git_last_commit: c7177ff
git_last_commit_date: 2021-10-26 11:58:52 -0500
nebbiolo1Linux (Ubuntu 20.04.3 LTS) / x86_64  OK    OK    OK  UNNEEDED, same version is already published
riesling1Windows Server 2019 Standard / x64  OK    OK    OK    OK  
merida1macOS 10.14.6 Mojave / x86_64  OK    OK    OK    OK  UNNEEDED, same version is already published
Package 4/2068HostnameOS / ArchINSTALLBUILDCHECKBUILD BIN
a4Core 1.43.0  (landing page)
Laure Cougnaud
git_last_commit: 0f63393
git_last_commit_date: 2021-10-26 11:58:54 -0500
nebbiolo1Linux (Ubuntu 20.04.3 LTS) / x86_64  OK    OK    OK  UNNEEDED, same version is already published
riesling1Windows Server 2019 Standard / x64  OK    OK    OK    OK  
merida1macOS 10.14.6 Mojave / x86_64  OK    OK    OK    OK  UNNEEDED, same version is already published
Package 5/2068HostnameOS / ArchINSTALLBUILDCHECKBUILD BIN
a4Preproc 1.43.0  (landing page)
Laure Cougnaud
git_last_commit: 5234ef5
git_last_commit_date: 2021-10-26 11:58:50 -0500
nebbiolo1Linux (Ubuntu 20.04.3 LTS) / x86_64  OK    OK    OK  UNNEEDED, same version is already published
riesling1Windows Server 2019 Standard / x64  OK    OK    OK    OK  
merida1macOS 10.14.6 Mojave / x86_64  OK    OK    OK    OK  UNNEEDED, same version is already published
Package 6/2068HostnameOS / ArchINSTALLBUILDCHECKBUILD BIN
a4Reporting 1.43.0  (landing page)
Laure Cougnaud
git_last_commit: 7c42cd5
git_last_commit_date: 2021-10-26 11:58:57 -0500
nebbiolo1Linux (Ubuntu 20.04.3 LTS) / x86_64  OK    OK    OK  UNNEEDED, same version is already published
riesling1Windows Server 2019 Standard / x64  OK    OK    OK    OK  
merida1macOS 10.14.6 Mojave / x86_64  OK    OK    OK    OK  UNNEEDED, same version is already published
Package 7/2068HostnameOS / ArchINSTALLBUILDCHECKBUILD BIN
ABAEnrichment 1.25.1  (landing page)
Steffi Grote
git_last_commit: aa43e0a
git_last_commit_date: 2021-11-15 13:30:05 -0500
nebbiolo1Linux (Ubuntu 20.04.3 LTS) / x86_64  ERROR    ERROR  skipped
riesling1Windows Server 2019 Standard / x64  ERROR    ERROR  skippedskipped
merida1macOS 10.14.6 Mojave / x86_64  ERROR    ERROR  skippedskipped
Package 8/2068HostnameOS / ArchINSTALLBUILDCHECKBUILD BIN
ABarray 1.63.0  (landing page)
Yongming Andrew Sun
git_last_commit: bf38b92
git_last_commit_date: 2021-10-26 11:49:58 -0500
nebbiolo1Linux (Ubuntu 20.04.3 LTS) / x86_64  OK    OK    OK  UNNEEDED, same version is already published
riesling1Windows Server 2019 Standard / x64  OK    OK    OK    OK  
merida1macOS 10.14.6 Mojave / x86_64  OK    OK    OK    OK  UNNEEDED, same version is already published
Package 9/2068HostnameOS / ArchINSTALLBUILDCHECKBUILD BIN
abseqR 1.13.0  (landing page)
JiaHong Fong
git_last_commit: bdec000
git_last_commit_date: 2021-10-26 12:48:00 -0500
nebbiolo1Linux (Ubuntu 20.04.3 LTS) / x86_64  OK    OK    OK  UNNEEDED, same version is already published
riesling1Windows Server 2019 Standard / x64  OK    OK    OK    OK  
merida1macOS 10.14.6 Mojave / x86_64  OK    ERROR  skippedskipped
Package 10/2068HostnameOS / ArchINSTALLBUILDCHECKBUILD BIN
ABSSeq 1.49.0  (landing page)
Wentao Yang
git_last_commit: e4e5952
git_last_commit_date: 2021-10-26 12:12:45 -0500
nebbiolo1Linux (Ubuntu 20.04.3 LTS) / x86_64  OK    OK    OK  UNNEEDED, same version is already published
riesling1Windows Server 2019 Standard / x64  OK    OK    OK    OK  
merida1macOS 10.14.6 Mojave / x86_64  OK    OK    OK    OK  UNNEEDED, same version is already published
Package 11/2068HostnameOS / ArchINSTALLBUILDCHECKBUILD BIN
acde 1.25.0  (landing page)
Juan Pablo Acosta
git_last_commit: 0e7182d
git_last_commit_date: 2021-10-26 12:20:51 -0500
nebbiolo1Linux (Ubuntu 20.04.3 LTS) / x86_64  OK    OK    OK  UNNEEDED, same version is already published
riesling1Windows Server 2019 Standard / x64  OK    OK    OK    OK  
merida1macOS 10.14.6 Mojave / x86_64  OK    OK    OK    OK  UNNEEDED, same version is already published
Package 12/2068HostnameOS / ArchINSTALLBUILDCHECKBUILD BIN
ACE 1.13.0  (landing page)
Jos B Poell
git_last_commit: 7fe0e7c
git_last_commit_date: 2021-10-26 12:45:46 -0500
nebbiolo1Linux (Ubuntu 20.04.3 LTS) / x86_64  OK    OK    OK  UNNEEDED, same version is already published
riesling1Windows Server 2019 Standard / x64  OK    OK    OK    OK  
merida1macOS 10.14.6 Mojave / x86_64  OK    OK    OK    OK  UNNEEDED, same version is already published
Package 13/2068HostnameOS / ArchINSTALLBUILDCHECKBUILD BIN
aCGH 1.73.0  (landing page)
Peter Dimitrov
git_last_commit: 5781ac2
git_last_commit_date: 2021-10-26 11:47:03 -0500
nebbiolo1Linux (Ubuntu 20.04.3 LTS) / x86_64  OK    OK    OK  UNNEEDED, same version is already published
riesling1Windows Server 2019 Standard / x64  OK    OK    OK    OK  
merida1macOS 10.14.6 Mojave / x86_64  OK    OK    OK    OK  UNNEEDED, same version is already published
Package 14/2068HostnameOS / ArchINSTALLBUILDCHECKBUILD BIN
ACME 2.51.0  (landing page)
Sean Davis
git_last_commit: 50b4948
git_last_commit_date: 2021-10-26 11:51:02 -0500
nebbiolo1Linux (Ubuntu 20.04.3 LTS) / x86_64  OK    OK    WARNINGS  UNNEEDED, same version is already published
riesling1Windows Server 2019 Standard / x64  OK    OK    WARNINGS    OK  
merida1macOS 10.14.6 Mojave / x86_64  OK    OK    OK    OK  UNNEEDED, same version is already published
Package 15/2068HostnameOS / ArchINSTALLBUILDCHECKBUILD BIN
ADaCGH2 2.35.0  (landing page)
Ramon Diaz-Uriarte
git_last_commit: 0c308d5
git_last_commit_date: 2021-10-26 11:57:27 -0500
nebbiolo1Linux (Ubuntu 20.04.3 LTS) / x86_64  OK    OK    OK  UNNEEDED, same version is already published
riesling1Windows Server 2019 Standard / x64  OK    OK    OK    OK  
merida1macOS 10.14.6 Mojave / x86_64  OK    OK    OK    OK  UNNEEDED, same version is already published
Package 16/2068HostnameOS / ArchINSTALLBUILDCHECKBUILD BIN
ADAM 1.11.0  (landing page)
Jose Luiz Rybarczyk Filho
git_last_commit: 882374a
git_last_commit_date: 2021-10-26 12:48:19 -0500
nebbiolo1Linux (Ubuntu 20.04.3 LTS) / x86_64  OK    OK    OK  UNNEEDED, same version is already published
riesling1Windows Server 2019 Standard / x64  OK    OK    OK    OK  
merida1macOS 10.14.6 Mojave / x86_64  OK    OK    OK    OK  UNNEEDED, same version is already published
Package 17/2068HostnameOS / ArchINSTALLBUILDCHECKBUILD BIN
ADAMgui 1.11.0  (landing page)
Jose Luiz Rybarczyk Filho
git_last_commit: d0a8b36
git_last_commit_date: 2021-10-26 12:51:10 -0500
nebbiolo1Linux (Ubuntu 20.04.3 LTS) / x86_64  OK    OK    OK  UNNEEDED, same version is already published
riesling1Windows Server 2019 Standard / x64  OK    OK    OK    OK  
merida1macOS 10.14.6 Mojave / x86_64  OK    OK    OK    OK  UNNEEDED, same version is already published
Package 18/2068HostnameOS / ArchINSTALLBUILDCHECKBUILD BIN
adductomicsR 1.11.0  (landing page)
Josie Hayes
git_last_commit: bd91835
git_last_commit_date: 2021-10-26 12:49:07 -0500
nebbiolo1Linux (Ubuntu 20.04.3 LTS) / x86_64  OK    OK    WARNINGS  UNNEEDED, same version is already published
riesling1Windows Server 2019 Standard / x64  OK    OK    WARNINGS    OK  
merida1macOS 10.14.6 Mojave / x86_64  OK    OK    WARNINGS    OK  YES
Package 19/2068HostnameOS / ArchINSTALLBUILDCHECKBUILD BIN
ADImpute 1.5.0  (landing page)
Ana Carolina Leote
git_last_commit: 7e4e303
git_last_commit_date: 2021-10-26 13:04:30 -0500
nebbiolo1Linux (Ubuntu 20.04.3 LTS) / x86_64  OK    OK    WARNINGS  UNNEEDED, same version is already published
riesling1Windows Server 2019 Standard / x64  OK    OK    WARNINGS    OK  
merida1macOS 10.14.6 Mojave / x86_64  OK    OK    WARNINGS    OK  UNNEEDED, same version is already published
Package 20/2068HostnameOS / ArchINSTALLBUILDCHECKBUILD BIN
adSplit 1.65.0  (landing page)
Claudio Lottaz
git_last_commit: 454188b
git_last_commit_date: 2021-10-26 11:49:19 -0500
nebbiolo1Linux (Ubuntu 20.04.3 LTS) / x86_64  OK    OK    OK  UNNEEDED, same version is already published
riesling1Windows Server 2019 Standard / x64  OK    OK    OK    OK  
merida1macOS 10.14.6 Mojave / x86_64  OK    OK    OK    OK  UNNEEDED, same version is already published
Package 21/2068HostnameOS / ArchINSTALLBUILDCHECKBUILD BIN
AffiXcan 1.13.1  (landing page)
Alessandro Lussana
git_last_commit: 8f336c9
git_last_commit_date: 2021-11-17 15:04:55 -0500
nebbiolo1Linux (Ubuntu 20.04.3 LTS) / x86_64  OK    OK    OK  UNNEEDED, same version is already published
riesling1Windows Server 2019 Standard / x64  OK    OK    OK    OK  
merida1macOS 10.14.6 Mojave / x86_64  OK    OK    OK    OK  UNNEEDED, same version is already published
Package 22/2068HostnameOS / ArchINSTALLBUILDCHECKBUILD BIN
affxparser 1.67.0  (landing page)
Kasper Daniel Hansen
git_last_commit: c0a3eb6
git_last_commit_date: 2021-11-08 17:12:33 -0500
nebbiolo1Linux (Ubuntu 20.04.3 LTS) / x86_64  OK    OK    WARNINGS  UNNEEDED, same version is already published
riesling1Windows Server 2019 Standard / x64  OK    OK    WARNINGS    OK  
merida1macOS 10.14.6 Mojave / x86_64  OK    OK    WARNINGS    OK  UNNEEDED, same version is already published
Package 23/2068HostnameOS / ArchINSTALLBUILDCHECKBUILD BIN
affy 1.73.0  (landing page)
Rafael A. Irizarry
git_last_commit: 57e0aef
git_last_commit_date: 2021-10-26 11:45:47 -0500
nebbiolo1Linux (Ubuntu 20.04.3 LTS) / x86_64  OK    OK    WARNINGS  UNNEEDED, same version is already published
riesling1Windows Server 2019 Standard / x64  OK    OK    WARNINGS    OK  
merida1macOS 10.14.6 Mojave / x86_64  OK    OK    WARNINGS    OK  UNNEEDED, same version is already published
Package 24/2068HostnameOS / ArchINSTALLBUILDCHECKBUILD BIN
affycomp 1.71.0  (landing page)
Rafael A. Irizarry
git_last_commit: 0fd74ba
git_last_commit_date: 2021-10-26 11:46:00 -0500
nebbiolo1Linux (Ubuntu 20.04.3 LTS) / x86_64  OK    OK    OK  UNNEEDED, same version is already published
riesling1Windows Server 2019 Standard / x64  OK    OK    OK    OK  
merida1macOS 10.14.6 Mojave / x86_64  OK    OK    OK    OK  UNNEEDED, same version is already published
Package 25/2068HostnameOS / ArchINSTALLBUILDCHECKBUILD BIN
AffyCompatible 1.55.0  (landing page)
Martin Morgan
git_last_commit: 320e948
git_last_commit_date: 2021-10-26 11:52:16 -0500
nebbiolo1Linux (Ubuntu 20.04.3 LTS) / x86_64  OK    OK    OK  UNNEEDED, same version is already published
riesling1Windows Server 2019 Standard / x64  OK    OK    OK    OK  
merida1macOS 10.14.6 Mojave / x86_64  OK    OK    OK    OK  UNNEEDED, same version is already published
Package 26/2068HostnameOS / ArchINSTALLBUILDCHECKBUILD BIN
affyContam 1.53.0  (landing page)
V. Carey
git_last_commit: c87fda0
git_last_commit_date: 2021-10-26 11:53:10 -0500
nebbiolo1Linux (Ubuntu 20.04.3 LTS) / x86_64  OK    OK    OK  UNNEEDED, same version is already published
riesling1Windows Server 2019 Standard / x64  OK    OK    OK    OK  
merida1macOS 10.14.6 Mojave / x86_64  OK    OK    OK    OK  UNNEEDED, same version is already published
Package 27/2068HostnameOS / ArchINSTALLBUILDCHECKBUILD BIN
affycoretools 1.67.2  (landing page)
James W. MacDonald
git_last_commit: 59ffb8d
git_last_commit_date: 2021-11-11 10:49:35 -0500
nebbiolo1Linux (Ubuntu 20.04.3 LTS) / x86_64  OK    OK    WARNINGS  NO, package depends on 'Glimma' which is not available
riesling1Windows Server 2019 Standard / x64  OK    OK    WARNINGS    OK  
merida1macOS 10.14.6 Mojave / x86_64  OK    OK    WARNINGS    OK  NO, package depends on 'Glimma' which is not available
Package 28/2068HostnameOS / ArchINSTALLBUILDCHECKBUILD BIN
affyILM 1.47.0  (landing page)
Myriam Kroll and Fabrice Berger
git_last_commit: c7f2fa8
git_last_commit_date: 2021-10-26 11:56:15 -0500
nebbiolo1Linux (Ubuntu 20.04.3 LTS) / x86_64  OK    OK    OK  UNNEEDED, same version is already published
riesling1Windows Server 2019 Standard / x64  OK    OK    OK    OK  
merida1macOS 10.14.6 Mojave / x86_64  OK    OK    OK    OK  UNNEEDED, same version is already published
Package 29/2068HostnameOS / ArchINSTALLBUILDCHECKBUILD BIN
affyio 1.65.0  (landing page)
Ben Bolstad
git_last_commit: 501f948
git_last_commit_date: 2021-10-26 11:45:43 -0500
nebbiolo1Linux (Ubuntu 20.04.3 LTS) / x86_64  OK    OK    WARNINGS  UNNEEDED, same version is already published
riesling1Windows Server 2019 Standard / x64  OK    OK    WARNINGS    OK  
merida1macOS 10.14.6 Mojave / x86_64  OK    OK    OK    OK  UNNEEDED, same version is already published
Package 30/2068HostnameOS / ArchINSTALLBUILDCHECKBUILD BIN
affylmGUI 1.69.0  (landing page)
Gordon Smyth
git_last_commit: 353923d
git_last_commit_date: 2021-10-26 11:46:50 -0500
nebbiolo1Linux (Ubuntu 20.04.3 LTS) / x86_64  OK    OK    OK  UNNEEDED, same version is already published
riesling1Windows Server 2019 Standard / x64  OK    OK    OK    OK  
merida1macOS 10.14.6 Mojave / x86_64  OK    OK    OK    OK  UNNEEDED, same version is already published
Package 31/2068HostnameOS / ArchINSTALLBUILDCHECKBUILD BIN
affyPLM 1.71.0  (landing page)
Ben Bolstad
git_last_commit: 6e16039
git_last_commit_date: 2021-10-26 11:46:18 -0500
nebbiolo1Linux (Ubuntu 20.04.3 LTS) / x86_64  OK    OK    WARNINGS  UNNEEDED, same version is already published
riesling1Windows Server 2019 Standard / x64  OK    OK    OK    OK  
merida1macOS 10.14.6 Mojave / x86_64  OK    OK    OK    OK  UNNEEDED, same version is already published
Package 32/2068HostnameOS / ArchINSTALLBUILDCHECKBUILD BIN
AffyRNADegradation 1.41.0  (landing page)
Mario Fasold
git_last_commit: ce34b5b
git_last_commit_date: 2021-10-26 12:01:34 -0500
nebbiolo1Linux (Ubuntu 20.04.3 LTS) / x86_64  OK    OK    OK  UNNEEDED, same version is already published
riesling1Windows Server 2019 Standard / x64  OK    OK    OK    OK  
merida1macOS 10.14.6 Mojave / x86_64  OK    OK    OK    OK  UNNEEDED, same version is already published
Package 33/2068HostnameOS / ArchINSTALLBUILDCHECKBUILD BIN
AGDEX 1.43.0  (landing page)
Cuilan lani Gao
git_last_commit: 50191d7
git_last_commit_date: 2021-10-26 12:00:32 -0500
nebbiolo1Linux (Ubuntu 20.04.3 LTS) / x86_64  OK    OK    OK  UNNEEDED, same version is already published
riesling1Windows Server 2019 Standard / x64  OK    OK    OK    OK  
merida1macOS 10.14.6 Mojave / x86_64  OK    OK    OK    OK  UNNEEDED, same version is already published
Package 34/2068HostnameOS / ArchINSTALLBUILDCHECKBUILD BIN
aggregateBioVar 1.5.0  (landing page)
Jason Ratcliff
git_last_commit: 7f2c37c
git_last_commit_date: 2021-10-26 13:03:14 -0500
nebbiolo1Linux (Ubuntu 20.04.3 LTS) / x86_64  OK    OK    OK  UNNEEDED, same version is already published
riesling1Windows Server 2019 Standard / x64  OK    OK    OK    OK  
merida1macOS 10.14.6 Mojave / x86_64  OK    OK    OK    OK  UNNEEDED, same version is already published
Package 35/2068HostnameOS / ArchINSTALLBUILDCHECKBUILD BIN
agilp 3.27.0  (landing page)
Benny Chain
git_last_commit: 6d6e1b0
git_last_commit_date: 2021-10-26 12:04:52 -0500
nebbiolo1Linux (Ubuntu 20.04.3 LTS) / x86_64  OK    OK    OK  UNNEEDED, same version is already published
riesling1Windows Server 2019 Standard / x64  OK    OK    OK    OK  
merida1macOS 10.14.6 Mojave / x86_64  OK    OK    OK    OK  UNNEEDED, same version is already published
Package 36/2068HostnameOS / ArchINSTALLBUILDCHECKBUILD BIN
AgiMicroRna 2.45.0  (landing page)
Pedro Lopez-Romero
git_last_commit: b4bdea1
git_last_commit_date: 2021-10-26 11:54:33 -0500
nebbiolo1Linux (Ubuntu 20.04.3 LTS) / x86_64  OK    OK    OK  NO, package depends on 'affycoretools' which is not available
riesling1Windows Server 2019 Standard / x64  OK    OK    OK    OK  
merida1macOS 10.14.6 Mojave / x86_64  OK    OK    OK    OK  NO, package depends on 'affycoretools' which is not available
Package 37/2068HostnameOS / ArchINSTALLBUILDCHECKBUILD BIN
AIMS 1.27.0  (landing page)
Eric R Paquet
git_last_commit: d574511
git_last_commit_date: 2021-10-26 12:17:51 -0500
nebbiolo1Linux (Ubuntu 20.04.3 LTS) / x86_64  OK    OK    OK  UNNEEDED, same version is already published
riesling1Windows Server 2019 Standard / x64  OK    OK    OK    OK  
merida1macOS 10.14.6 Mojave / x86_64  OK    OK    OK    OK  UNNEEDED, same version is already published
Package 38/2068HostnameOS / ArchINSTALLBUILDCHECKBUILD BIN
airpart 1.3.0  (landing page)
Wancen Mu
git_last_commit: 0c451dd
git_last_commit_date: 2021-10-26 13:08:14 -0500
nebbiolo1Linux (Ubuntu 20.04.3 LTS) / x86_64  OK    OK    OK  UNNEEDED, same version is already published
riesling1Windows Server 2019 Standard / x64  OK    OK    OK    OK  
merida1macOS 10.14.6 Mojave / x86_64  OK    OK    OK    OK  UNNEEDED, same version is already published
Package 39/2068HostnameOS / ArchINSTALLBUILDCHECKBUILD BIN
ALDEx2 1.27.0  (landing page)
Greg Gloor
git_last_commit: 150617d
git_last_commit_date: 2021-10-26 12:16:13 -0500
nebbiolo1Linux (Ubuntu 20.04.3 LTS) / x86_64  OK    OK    OK  UNNEEDED, same version is already published
riesling1Windows Server 2019 Standard / x64  OK    OK    OK    OK  
merida1macOS 10.14.6 Mojave / x86_64  OK    OK    OK    OK  UNNEEDED, same version is already published
Package 40/2068HostnameOS / ArchINSTALLBUILDCHECKBUILD BIN
alevinQC 1.11.0  (landing page)
Charlotte Soneson
git_last_commit: 0d9d771
git_last_commit_date: 2021-10-26 14:59:33 -0500
nebbiolo1Linux (Ubuntu 20.04.3 LTS) / x86_64  OK    OK    OK  UNNEEDED, same version is already published
riesling1Windows Server 2019 Standard / x64  OK    OK    OK    OK  
merida1macOS 10.14.6 Mojave / x86_64  OK    OK    OK    OK  UNNEEDED, same version is already published
Package 41/2068HostnameOS / ArchINSTALLBUILDCHECKBUILD BIN
AllelicImbalance 1.33.1  (landing page)
Jesper R Gadin
git_last_commit: 7e81c3a
git_last_commit_date: 2021-11-17 15:17:12 -0500
nebbiolo1Linux (Ubuntu 20.04.3 LTS) / x86_64  OK    OK    OK  UNNEEDED, same version is already published
riesling1Windows Server 2019 Standard / x64  OK    OK    OK    OK  
merida1macOS 10.14.6 Mojave / x86_64  OK    OK    OK    OK  YES
Package 42/2068HostnameOS / ArchINSTALLBUILDCHECKBUILD BIN
AlphaBeta 1.9.0  (landing page)
Yadollah Shahryary Dizaji
git_last_commit: d4c6349
git_last_commit_date: 2021-10-26 12:53:27 -0500
nebbiolo1Linux (Ubuntu 20.04.3 LTS) / x86_64  OK    OK    OK  UNNEEDED, same version is already published
riesling1Windows Server 2019 Standard / x64  OK    OK    OK    OK  
merida1macOS 10.14.6 Mojave / x86_64  OK    OK    OK    OK  UNNEEDED, same version is already published
Package 43/2068HostnameOS / ArchINSTALLBUILDCHECKBUILD BIN
alpine 1.21.1  (landing page)
Michael Love
git_last_commit: dc3c0f0
git_last_commit_date: 2021-11-18 19:19:49 -0500
nebbiolo1Linux (Ubuntu 20.04.3 LTS) / x86_64  OK    OK    OK  UNNEEDED, same version is already published
riesling1Windows Server 2019 Standard / x64  OK    OK    OK    OK  
merida1macOS 10.14.6 Mojave / x86_64  OK    OK    OK    OK  UNNEEDED, same version is already published
Package 44/2068HostnameOS / ArchINSTALLBUILDCHECKBUILD BIN
AlpsNMR 3.5.0  (landing page)
Sergio Oller Moreno
git_last_commit: cc478aa
git_last_commit_date: 2021-10-26 13:05:05 -0500
nebbiolo1Linux (Ubuntu 20.04.3 LTS) / x86_64  OK    OK    OK  UNNEEDED, same version is already published
riesling1Windows Server 2019 Standard / x64  OK    OK    OK    OK  
merida1macOS 10.14.6 Mojave / x86_64  OK    OK    OK    OK  UNNEEDED, same version is already published
Package 45/2068HostnameOS / ArchINSTALLBUILDCHECKBUILD BIN
altcdfenvs 2.57.0  (landing page)
Laurent Gautier
git_last_commit: c080456
git_last_commit_date: 2021-10-26 11:46:44 -0500
nebbiolo1Linux (Ubuntu 20.04.3 LTS) / x86_64  OK    OK    OK  UNNEEDED, same version is already published
riesling1Windows Server 2019 Standard / x64  OK    OK    OK    OK  
merida1macOS 10.14.6 Mojave / x86_64  OK    OK    OK    OK  UNNEEDED, same version is already published
Package 46/2068HostnameOS / ArchINSTALLBUILDCHECKBUILD BIN
AMARETTO 1.11.0  (landing page)
Olivier Gevaert
git_last_commit: dd06549
git_last_commit_date: 2021-10-26 12:50:18 -0500
nebbiolo1Linux (Ubuntu 20.04.3 LTS) / x86_64  OK    OK    OK  UNNEEDED, same version is already published
riesling1Windows Server 2019 Standard / x64  OK    OK    OK    OK  
merida1macOS 10.14.6 Mojave / x86_64  OK    OK    OK    OK  UNNEEDED, same version is already published
Package 47/2068HostnameOS / ArchINSTALLBUILDCHECKBUILD BIN
AMOUNTAIN 1.21.0  (landing page)
Dong Li
git_last_commit: a69f053
git_last_commit_date: 2021-10-26 12:28:55 -0500
nebbiolo1Linux (Ubuntu 20.04.3 LTS) / x86_64  OK    OK    OK  UNNEEDED, same version is already published
riesling1Windows Server 2019 Standard / x64  OK    OK    OK    OK  
merida1macOS 10.14.6 Mojave / x86_64  OK    OK    OK    OK  UNNEEDED, same version is already published
Package 48/2068HostnameOS / ArchINSTALLBUILDCHECKBUILD BIN
amplican 1.17.1  (landing page)
Eivind Valen
git_last_commit: 5b0baca
git_last_commit_date: 2021-11-19 04:13:23 -0500
nebbiolo1Linux (Ubuntu 20.04.3 LTS) / x86_64  OK    OK    OK  UNNEEDED, same version is already published
riesling1Windows Server 2019 Standard / x64  OK    OK    OK    OK  
merida1macOS 10.14.6 Mojave / x86_64  OK    OK    OK    OK  UNNEEDED, same version is already published
Package 49/2068HostnameOS / ArchINSTALLBUILDCHECKBUILD BIN
Anaquin 2.19.0  (landing page)
Ted Wong
git_last_commit: aff8f6c
git_last_commit_date: 2021-10-26 12:29:42 -0500
nebbiolo1Linux (Ubuntu 20.04.3 LTS) / x86_64  OK    OK    OK  UNNEEDED, same version is already published
riesling1Windows Server 2019 Standard / x64  OK    OK    OK    OK  
merida1macOS 10.14.6 Mojave / x86_64  OK    OK    OK    OK  UNNEEDED, same version is already published
Package 50/2068HostnameOS / ArchINSTALLBUILDCHECKBUILD BIN
ANCOMBC 1.5.0  (landing page)
Huang Lin
git_last_commit: cc1f68d
git_last_commit_date: 2021-10-26 13:02:30 -0500
nebbiolo1Linux (Ubuntu 20.04.3 LTS) / x86_64  OK    OK    OK  UNNEEDED, same version is already published
riesling1Windows Server 2019 Standard / x64  OK    OK    OK    OK  
merida1macOS 10.14.6 Mojave / x86_64  OK    OK    OK    OK  UNNEEDED, same version is already published
Package 51/2068HostnameOS / ArchINSTALLBUILDCHECKBUILD BIN
AneuFinder 1.23.1  (landing page)
Aaron Taudt
git_last_commit: ac1bba4
git_last_commit_date: 2021-11-18 19:23:58 -0500
nebbiolo1Linux (Ubuntu 20.04.3 LTS) / x86_64  OK    OK    WARNINGS  UNNEEDED, same version is already published
riesling1Windows Server 2019 Standard / x64  OK    OK    WARNINGS    OK  
merida1macOS 10.14.6 Mojave / x86_64  OK    OK    WARNINGS    OK  UNNEEDED, same version is already published
Package 52/2068HostnameOS / ArchINSTALLBUILDCHECKBUILD BIN
ANF 1.17.0  (landing page)
Tianle Ma
git_last_commit: 25dacb3
git_last_commit_date: 2021-10-26 12:38:49 -0500
nebbiolo1Linux (Ubuntu 20.04.3 LTS) / x86_64  OK    OK    OK  UNNEEDED, same version is already published
riesling1Windows Server 2019 Standard / x64  OK    OK    OK    OK  
merida1macOS 10.14.6 Mojave / x86_64  OK    OK    OK    OK  UNNEEDED, same version is already published
Package 53/2068HostnameOS / ArchINSTALLBUILDCHECKBUILD BIN
animalcules 1.11.0  (landing page)
Yue Zhao
git_last_commit: 02957ac
git_last_commit_date: 2021-10-26 12:51:53 -0500
nebbiolo1Linux (Ubuntu 20.04.3 LTS) / x86_64  OK    ERROR  skipped
riesling1Windows Server 2019 Standard / x64  OK    ERROR  skippedskipped
merida1macOS 10.14.6 Mojave / x86_64  OK    ERROR  skippedskipped
Package 54/2068HostnameOS / ArchINSTALLBUILDCHECKBUILD BIN
annaffy 1.67.0  (landing page)
Colin A. Smith
git_last_commit: 98222ad
git_last_commit_date: 2021-10-26 11:46:08 -0500
nebbiolo1Linux (Ubuntu 20.04.3 LTS) / x86_64  OK    OK    WARNINGS  UNNEEDED, same version is already published
riesling1Windows Server 2019 Standard / x64  OK    OK    WARNINGS    OK  
merida1macOS 10.14.6 Mojave / x86_64  OK    OK    WARNINGS    OK  UNNEEDED, same version is already published
Package 55/2068HostnameOS / ArchINSTALLBUILDCHECKBUILD BIN
annmap 1.37.1  (landing page)
Chris Wirth
git_last_commit: 9bb19da
git_last_commit_date: 2021-11-17 10:43:14 -0500
nebbiolo1Linux (Ubuntu 20.04.3 LTS) / x86_64  OK    OK    ERROR  
riesling1Windows Server 2019 Standard / x64... NOT SUPPORTED ...
merida1macOS 10.14.6 Mojave / x86_64  OK    OK    ERROR    OK  
Package 56/2068HostnameOS / ArchINSTALLBUILDCHECKBUILD BIN
annotate 1.73.0  (landing page)
Bioconductor Package Maintainer
git_last_commit: bd601f0
git_last_commit_date: 2021-10-26 11:45:29 -0500
nebbiolo1Linux (Ubuntu 20.04.3 LTS) / x86_64  OK    OK    OK  UNNEEDED, same version is already published
riesling1Windows Server 2019 Standard / x64  OK    OK    OK    OK  
merida1macOS 10.14.6 Mojave / x86_64  OK    OK    OK    OK  UNNEEDED, same version is already published
Package 57/2068HostnameOS / ArchINSTALLBUILDCHECKBUILD BIN
AnnotationDbi 1.57.1  (landing page)
Bioconductor Package Maintainer
git_last_commit: 3b0c2df
git_last_commit_date: 2021-10-28 14:55:10 -0500
nebbiolo1Linux (Ubuntu 20.04.3 LTS) / x86_64  OK    OK    OK  UNNEEDED, same version is already published
riesling1Windows Server 2019 Standard / x64  OK    OK    OK    OK  
merida1macOS 10.14.6 Mojave / x86_64  OK    OK    OK    OK  UNNEEDED, same version is already published
Package 58/2068HostnameOS / ArchINSTALLBUILDCHECKBUILD BIN
AnnotationFilter 1.19.0  (landing page)
Bioconductor Package Maintainer
git_last_commit: aa3b7ab
git_last_commit_date: 2021-10-26 12:34:17 -0500
nebbiolo1Linux (Ubuntu 20.04.3 LTS) / x86_64  OK    OK    OK  UNNEEDED, same version is already published
riesling1Windows Server 2019 Standard / x64  OK    OK    OK    OK  
merida1macOS 10.14.6 Mojave / x86_64  OK    OK    OK    OK  UNNEEDED, same version is already published
Package 59/2068HostnameOS / ArchINSTALLBUILDCHECKBUILD BIN
AnnotationForge 1.37.0  (landing page)
Bioconductor Package Maintainer
git_last_commit: ac8fa56
git_last_commit_date: 2021-10-26 12:03:32 -0500
nebbiolo1Linux (Ubuntu 20.04.3 LTS) / x86_64  OK    OK    OK  UNNEEDED, same version is already published
riesling1Windows Server 2019 Standard / x64  OK    OK    OK    OK  
merida1macOS 10.14.6 Mojave / x86_64  OK    OK    OK    OK  UNNEEDED, same version is already published
Package 60/2068HostnameOS / ArchINSTALLBUILDCHECKBUILD BIN
AnnotationHub 3.3.6  (landing page)
Bioconductor Package Maintainer
git_last_commit: 7368977
git_last_commit_date: 2021-11-15 01:38:39 -0500
nebbiolo1Linux (Ubuntu 20.04.3 LTS) / x86_64  OK    OK    WARNINGS  UNNEEDED, same version is already published
riesling1Windows Server 2019 Standard / x64  OK    OK    WARNINGS    OK  
merida1macOS 10.14.6 Mojave / x86_64  OK    OK    WARNINGS    OK  UNNEEDED, same version is already published
Package 61/2068HostnameOS / ArchINSTALLBUILDCHECKBUILD BIN
AnnotationHubData 1.25.2  (landing page)
Bioconductor Package Maintainer
git_last_commit: 658ab6c
git_last_commit_date: 2021-11-24 12:55:50 -0500
nebbiolo1Linux (Ubuntu 20.04.3 LTS) / x86_64  OK    OK    ERROR  
riesling1Windows Server 2019 Standard / x64  OK    OK    WARNINGS    OK  
merida1macOS 10.14.6 Mojave / x86_64  OK    OK    ERROR    OK  
Package 62/2068HostnameOS / ArchINSTALLBUILDCHECKBUILD BIN
annotationTools 1.69.0  (landing page)
Alexandre Kuhn
git_last_commit: 386ea9b
git_last_commit_date: 2021-10-26 11:50:55 -0500
nebbiolo1Linux (Ubuntu 20.04.3 LTS) / x86_64  OK    OK    OK  UNNEEDED, same version is already published
riesling1Windows Server 2019 Standard / x64  OK    OK    OK    OK  
merida1macOS 10.14.6 Mojave / x86_64  OK    OK    OK    OK  UNNEEDED, same version is already published
Package 63/2068HostnameOS / ArchINSTALLBUILDCHECKBUILD BIN
annotatr 1.21.1  (landing page)
Raymond G. Cavalcante
git_last_commit: bbf8b55
git_last_commit_date: 2021-11-20 22:59:06 -0500
nebbiolo1Linux (Ubuntu 20.04.3 LTS) / x86_64  OK    OK    OK  UNNEEDED, same version is already published
riesling1Windows Server 2019 Standard / x64  OK    OK    OK    OK  
merida1macOS 10.14.6 Mojave / x86_64  OK    OK    OK    OK  NO, package depends on 'regioneR' which is not available
Package 64/2068HostnameOS / ArchINSTALLBUILDCHECKBUILD BIN
anota 1.43.0  (landing page)
Ola Larsson
git_last_commit: d06c688
git_last_commit_date: 2021-10-26 11:59:04 -0500
nebbiolo1Linux (Ubuntu 20.04.3 LTS) / x86_64  OK    OK    OK  UNNEEDED, same version is already published
riesling1Windows Server 2019 Standard / x64  OK    OK    OK    OK  
merida1macOS 10.14.6 Mojave / x86_64  OK    OK    OK    OK  UNNEEDED, same version is already published
Package 65/2068HostnameOS / ArchINSTALLBUILDCHECKBUILD BIN
anota2seq 1.17.0  (landing page)
Christian Oertlin , Julie Lorent
git_last_commit: ff88081
git_last_commit_date: 2021-10-26 12:38:52 -0500
nebbiolo1Linux (Ubuntu 20.04.3 LTS) / x86_64  OK    OK    OK  UNNEEDED, same version is already published
riesling1Windows Server 2019 Standard / x64  OK    OK    OK    OK  
merida1macOS 10.14.6 Mojave / x86_64  OK    OK    OK    OK  UNNEEDED, same version is already published
Package 66/2068HostnameOS / ArchINSTALLBUILDCHECKBUILD BIN
antiProfiles 1.35.0  (landing page)
Hector Corrada Bravo
git_last_commit: 66e14a3
git_last_commit_date: 2021-10-26 12:07:48 -0500
nebbiolo1Linux (Ubuntu 20.04.3 LTS) / x86_64  OK    OK    OK  UNNEEDED, same version is already published
riesling1Windows Server 2019 Standard / x64  OK    OK    OK    OK  
merida1macOS 10.14.6 Mojave / x86_64  OK    OK    OK    OK  UNNEEDED, same version is already published
Package 67/2068HostnameOS / ArchINSTALLBUILDCHECKBUILD BIN
AnVIL 1.7.0  (landing page)
Martin Morgan
git_last_commit: 19962a6
git_last_commit_date: 2021-10-26 12:59:50 -0500
nebbiolo1Linux (Ubuntu 20.04.3 LTS) / x86_64  OK    OK    OK  UNNEEDED, same version is already published
riesling1Windows Server 2019 Standard / x64  OK    OK    OK    OK  
merida1macOS 10.14.6 Mojave / x86_64  OK    OK    OK    OK  UNNEEDED, same version is already published
Package 68/2068HostnameOS / ArchINSTALLBUILDCHECKBUILD BIN
AnVILBilling 1.5.0  (landing page)
Vince Carey
git_last_commit: 73d1218
git_last_commit_date: 2021-10-26 13:04:23 -0500
nebbiolo1Linux (Ubuntu 20.04.3 LTS) / x86_64  OK    OK    OK  UNNEEDED, same version is already published
riesling1Windows Server 2019 Standard / x64  OK    OK    OK    OK  
merida1macOS 10.14.6 Mojave / x86_64  OK    OK    OK    OK  UNNEEDED, same version is already published
Package 69/2068HostnameOS / ArchINSTALLBUILDCHECKBUILD BIN
AnVILPublish 1.5.1  (landing page)
Martin Morgan
git_last_commit: 8be3a43
git_last_commit_date: 2021-10-26 15:10:23 -0500
nebbiolo1Linux (Ubuntu 20.04.3 LTS) / x86_64  OK    OK    OK  UNNEEDED, same version is already published
riesling1Windows Server 2019 Standard / x64  OK    OK    OK    OK  
merida1macOS 10.14.6 Mojave / x86_64  OK    OK    OK    OK  UNNEEDED, same version is already published
Package 70/2068HostnameOS / ArchINSTALLBUILDCHECKBUILD BIN
APAlyzer 1.9.0  (landing page)
Ruijia Wang
git_last_commit: 94e0039
git_last_commit_date: 2021-10-26 12:53:30 -0500
nebbiolo1Linux (Ubuntu 20.04.3 LTS) / x86_64  OK    OK    WARNINGS  UNNEEDED, same version is already published
riesling1Windows Server 2019 Standard / x64  OK    OK    WARNINGS    OK  
merida1macOS 10.14.6 Mojave / x86_64  OK    OK    WARNINGS    OK  UNNEEDED, same version is already published
Package 71/2068HostnameOS / ArchINSTALLBUILDCHECKBUILD BIN
apComplex 2.61.0  (landing page)
Denise Scholtens
git_last_commit: b513a44
git_last_commit_date: 2021-10-26 11:47:39 -0500
nebbiolo1Linux (Ubuntu 20.04.3 LTS) / x86_64  OK    OK    OK  UNNEEDED, same version is already published
riesling1Windows Server 2019 Standard / x64  OK    OK    OK    OK  
merida1macOS 10.14.6 Mojave / x86_64  OK    OK    OK    OK  UNNEEDED, same version is already published
Package 72/2068HostnameOS / ArchINSTALLBUILDCHECKBUILD BIN
apeglm 1.17.0  (landing page)
Anqi Zhu
git_last_commit: f4e60da
git_last_commit_date: 2021-10-26 12:37:46 -0500
nebbiolo1Linux (Ubuntu 20.04.3 LTS) / x86_64  OK    OK    OK  UNNEEDED, same version is already published
riesling1Windows Server 2019 Standard / x64  OK    OK    OK    OK  
merida1macOS 10.14.6 Mojave / x86_64  OK    OK    OK    OK  UNNEEDED, same version is already published
Package 73/2068HostnameOS / ArchINSTALLBUILDCHECKBUILD BIN
appreci8R 1.13.0  (landing page)
Sarah Sandmann
git_last_commit: a5fe012
git_last_commit_date: 2021-10-26 12:45:40 -0500
nebbiolo1Linux (Ubuntu 20.04.3 LTS) / x86_64  OK    ERROR  skipped
riesling1Windows Server 2019 Standard / x64  OK    ERROR  skippedskipped
merida1macOS 10.14.6 Mojave / x86_64  OK    ERROR  skippedskipped
Package 74/2068HostnameOS / ArchINSTALLBUILDCHECKBUILD BIN
aroma.light 3.25.0  (landing page)
Henrik Bengtsson
git_last_commit: c92d6fa
git_last_commit_date: 2021-10-27 14:55:24 -0500
nebbiolo1Linux (Ubuntu 20.04.3 LTS) / x86_64  OK    OK    OK  UNNEEDED, same version is already published
riesling1Windows Server 2019 Standard / x64  OK    OK    OK    OK  
merida1macOS 10.14.6 Mojave / x86_64  OK    OK    OK    OK  UNNEEDED, same version is already published
Package 75/2068HostnameOS / ArchINSTALLBUILDCHECKBUILD BIN
ArrayExpress 1.55.0  (landing page)
Suhaib Mohammed
git_last_commit: c87a145
git_last_commit_date: 2021-10-26 11:52:59 -0500
nebbiolo1Linux (Ubuntu 20.04.3 LTS) / x86_64  OK    OK    OK  UNNEEDED, same version is already published
riesling1Windows Server 2019 Standard / x64  OK    OK    OK    OK  
merida1macOS 10.14.6 Mojave / x86_64  OK    OK    OK    OK  UNNEEDED, same version is already published
Package 76/2068HostnameOS / ArchINSTALLBUILDCHECKBUILD BIN
ArrayExpressHTS 1.45.0  (landing page)
Angela Goncalves , Andrew Tikhonov
git_last_commit: b3fe97b
git_last_commit_date: 2021-10-26 11:59:09 -0500
nebbiolo1Linux (Ubuntu 20.04.3 LTS) / x86_64  OK    OK    WARNINGS  UNNEEDED, same version is already published
riesling1Windows Server 2019 Standard / x64... NOT SUPPORTED ...
merida1macOS 10.14.6 Mojave / x86_64  OK    OK    WARNINGS    OK  UNNEEDED, same version is already published
Package 77/2068HostnameOS / ArchINSTALLBUILDCHECKBUILD BIN
arrayMvout 1.53.0  (landing page)
V. Carey
git_last_commit: 5ca1272
git_last_commit_date: 2021-10-26 11:53:12 -0500
nebbiolo1Linux (Ubuntu 20.04.3 LTS) / x86_64  OK    OK    OK  UNNEEDED, same version is already published
riesling1Windows Server 2019 Standard / x64  OK    OK    OK    OK  
merida1macOS 10.14.6 Mojave / x86_64  OK    OK    OK    OK  UNNEEDED, same version is already published
Package 78/2068HostnameOS / ArchINSTALLBUILDCHECKBUILD BIN
arrayQuality 1.73.0  (landing page)
Agnes Paquet
git_last_commit: 1ee1995
git_last_commit_date: 2021-10-26 11:46:46 -0500
nebbiolo1Linux (Ubuntu 20.04.3 LTS) / x86_64  OK    OK    WARNINGS  UNNEEDED, same version is already published
riesling1Windows Server 2019 Standard / x64  OK    OK    WARNINGS    OK  
merida1macOS 10.14.6 Mojave / x86_64  OK    OK    WARNINGS    OK  UNNEEDED, same version is already published
Package 79/2068HostnameOS / ArchINSTALLBUILDCHECKBUILD BIN
arrayQualityMetrics 3.51.0  (landing page)
Mike Smith
git_last_commit: fe025bb
git_last_commit_date: 2021-10-26 11:51:28 -0500
nebbiolo1Linux (Ubuntu 20.04.3 LTS) / x86_64  OK    OK    OK  UNNEEDED, same version is already published
riesling1Windows Server 2019 Standard / x64  OK    OK    OK    OK  
merida1macOS 10.14.6 Mojave / x86_64  OK    OK    OK    OK  UNNEEDED, same version is already published
Package 80/2068HostnameOS / ArchINSTALLBUILDCHECKBUILD BIN
ARRmNormalization 1.35.0  (landing page)
Jean-Philippe Fortin
git_last_commit: 856c1bb
git_last_commit_date: 2021-10-26 12:07:00 -0500
nebbiolo1Linux (Ubuntu 20.04.3 LTS) / x86_64  OK    OK    OK  UNNEEDED, same version is already published
riesling1Windows Server 2019 Standard / x64  OK    OK    OK    OK  
merida1macOS 10.14.6 Mojave / x86_64  OK    OK    OK    OK  UNNEEDED, same version is already published
Package 81/2068HostnameOS / ArchINSTALLBUILDCHECKBUILD BIN
artMS 1.13.0  (landing page)
David Jimenez-Morales
git_last_commit: 916b2be
git_last_commit_date: 2021-10-26 12:47:58 -0500
nebbiolo1Linux (Ubuntu 20.04.3 LTS) / x86_64  OK    OK    OK  UNNEEDED, same version is already published
riesling1Windows Server 2019 Standard / x64  OK    OK    OK    OK  
merida1macOS 10.14.6 Mojave / x86_64  OK    OK    OK    OK  NO, package depends on 'MSstats' which is not available
Package 82/2068HostnameOS / ArchINSTALLBUILDCHECKBUILD BIN
ASAFE 1.21.0  (landing page)
Qian Zhang
git_last_commit: 2ddb92c
git_last_commit_date: 2021-10-26 12:29:07 -0500
nebbiolo1Linux (Ubuntu 20.04.3 LTS) / x86_64  OK    OK    OK  UNNEEDED, same version is already published
riesling1Windows Server 2019 Standard / x64  OK    OK    OK    OK  
merida1macOS 10.14.6 Mojave / x86_64  OK    OK    OK    OK  UNNEEDED, same version is already published
Package 83/2068HostnameOS / ArchINSTALLBUILDCHECKBUILD BIN
ASEB 1.39.0  (landing page)
Likun Wang
git_last_commit: 8365453
git_last_commit_date: 2021-10-26 12:01:31 -0500
nebbiolo1Linux (Ubuntu 20.04.3 LTS) / x86_64  OK    OK    OK  UNNEEDED, same version is already published
riesling1Windows Server 2019 Standard / x64  OK    OK    OK    OK  
merida1macOS 10.14.6 Mojave / x86_64  OK    OK    WARNINGS    OK  UNNEEDED, same version is already published
Package 84/2068HostnameOS / ArchINSTALLBUILDCHECKBUILD BIN
ASGSCA 1.29.0  (landing page)
Hela Romdhani
git_last_commit: e35c45e
git_last_commit_date: 2021-10-26 12:16:38 -0500
nebbiolo1Linux (Ubuntu 20.04.3 LTS) / x86_64  OK    OK    OK  UNNEEDED, same version is already published
riesling1Windows Server 2019 Standard / x64  OK    OK    OK    OK  
merida1macOS 10.14.6 Mojave / x86_64  OK    OK    OK    OK  UNNEEDED, same version is already published
Package 85/2068HostnameOS / ArchINSTALLBUILDCHECKBUILD BIN
ASICS 2.11.0  (landing page)
Gaëlle Lefort
git_last_commit: 3d8b830
git_last_commit_date: 2021-10-26 12:43:14 -0500
nebbiolo1Linux (Ubuntu 20.04.3 LTS) / x86_64  OK    OK    WARNINGS  UNNEEDED, same version is already published
riesling1Windows Server 2019 Standard / x64  OK    OK    WARNINGS    OK  
merida1macOS 10.14.6 Mojave / x86_64  OK    OK    WARNINGS    OK  UNNEEDED, same version is already published
Package 86/2068HostnameOS / ArchINSTALLBUILDCHECKBUILD BIN
ASpediaFI 1.9.1  (landing page)
Doyeong Yu
git_last_commit: 53491f1
git_last_commit_date: 2021-11-18 16:35:17 -0500
nebbiolo1Linux (Ubuntu 20.04.3 LTS) / x86_64  OK    OK    OK  UNNEEDED, same version is already published
riesling1Windows Server 2019 Standard / x64  OK    OK    OK    OK  
merida1macOS 10.14.6 Mojave / x86_64  OK    OK    OK    OK  NO, package depends on 'fgsea' which is not available
Package 87/2068HostnameOS / ArchINSTALLBUILDCHECKBUILD BIN
ASpli 2.5.0  (landing page)
Estefania Mancini
git_last_commit: 14aea67
git_last_commit_date: 2021-10-26 12:29:18 -0500
nebbiolo1Linux (Ubuntu 20.04.3 LTS) / x86_64  OK    OK    OK  UNNEEDED, same version is already published
riesling1Windows Server 2019 Standard / x64  OK    OK    OK    OK  
merida1macOS 10.14.6 Mojave / x86_64  OK    OK    OK    OK  YES
Package 88/2068HostnameOS / ArchINSTALLBUILDCHECKBUILD BIN
AssessORF 1.13.0  (landing page)
Deepank Korandla
git_last_commit: 15d93fb
git_last_commit_date: 2021-10-26 12:47:55 -0500
nebbiolo1Linux (Ubuntu 20.04.3 LTS) / x86_64  OK    OK    OK  UNNEEDED, same version is already published
riesling1Windows Server 2019 Standard / x64  OK    OK    OK    OK  
merida1macOS 10.14.6 Mojave / x86_64  OK    OK    OK    OK  UNNEEDED, same version is already published
Package 89/2068HostnameOS / ArchINSTALLBUILDCHECKBUILD BIN
ASSET 2.13.0  (landing page)
Samsiddhi Bhattacharjee
git_last_commit: e890889
git_last_commit_date: 2021-10-26 12:09:30 -0500
nebbiolo1Linux (Ubuntu 20.04.3 LTS) / x86_64  OK    OK    OK  UNNEEDED, same version is already published
riesling1Windows Server 2019 Standard / x64  OK    OK    OK    OK  
merida1macOS 10.14.6 Mojave / x86_64  OK    OK    OK    OK  UNNEEDED, same version is already published
Package 90/2068HostnameOS / ArchINSTALLBUILDCHECKBUILD BIN
ASSIGN 1.31.0  (landing page)
Ying Shen , W. Evan Johnson
git_last_commit: f1c4527
git_last_commit_date: 2021-10-26 12:12:42 -0500
nebbiolo1Linux (Ubuntu 20.04.3 LTS) / x86_64  OK    OK    OK  UNNEEDED, same version is already published
riesling1Windows Server 2019 Standard / x64  OK    OK    OK    OK  
merida1macOS 10.14.6 Mojave / x86_64  OK    OK    OK    OK  UNNEEDED, same version is already published
Package 91/2068HostnameOS / ArchINSTALLBUILDCHECKBUILD BIN
ATACseqQC 1.19.1  (landing page)
Jianhong Ou
git_last_commit: 78afd65
git_last_commit_date: 2021-11-20 22:59:57 -0500
nebbiolo1Linux (Ubuntu 20.04.3 LTS) / x86_64  OK    OK    OK  UNNEEDED, same version is already published
riesling1Windows Server 2019 Standard / x64  OK    OK    OK    OK  
merida1macOS 10.14.6 Mojave / x86_64  OK    OK    OK    OK  NO, package depends on 'ChIPpeakAnno' which is not available
Package 92/2068HostnameOS / ArchINSTALLBUILDCHECKBUILD BIN
atena 1.1.2  (landing page)
Beatriz Calvo-Serra
git_last_commit: 56b0b1c
git_last_commit_date: 2021-11-22 13:45:51 -0500
nebbiolo1Linux (Ubuntu 20.04.3 LTS) / x86_64  OK    OK    OK  UNNEEDED, same version is already published
riesling1Windows Server 2019 Standard / x64  OK    OK    OK    OK  
merida1macOS 10.14.6 Mojave / x86_64  OK    OK    OK    OK  UNNEEDED, same version is already published
Package 93/2068HostnameOS / ArchINSTALLBUILDCHECKBUILD BIN
atSNP 1.11.0  (landing page)
Sunyoung Shin
git_last_commit: acad103
git_last_commit_date: 2021-10-26 12:49:31 -0500
nebbiolo1Linux (Ubuntu 20.04.3 LTS) / x86_64  OK    OK    OK  UNNEEDED, same version is already published
riesling1Windows Server 2019 Standard / x64  OK    OK    OK    OK  
merida1macOS 10.14.6 Mojave / x86_64  OK    OK    OK    OK  UNNEEDED, same version is already published
Package 94/2068HostnameOS / ArchINSTALLBUILDCHECKBUILD BIN
attract 1.47.0  (landing page)
Samuel Zimmerman
git_last_commit: b7601f8
git_last_commit_date: 2021-10-26 11:56:18 -0500
nebbiolo1Linux (Ubuntu 20.04.3 LTS) / x86_64  OK    OK    OK  UNNEEDED, same version is already published
riesling1Windows Server 2019 Standard / x64  OK    OK    OK    OK  
merida1macOS 10.14.6 Mojave / x86_64  OK    OK    OK    OK  UNNEEDED, same version is already published
Package 95/2068HostnameOS / ArchINSTALLBUILDCHECKBUILD BIN
AUCell 1.17.0  (landing page)
Sara Aibar
git_last_commit: 8bc80bb
git_last_commit_date: 2021-10-26 12:38:06 -0500
nebbiolo1Linux (Ubuntu 20.04.3 LTS) / x86_64  OK    OK    OK  UNNEEDED, same version is already published
riesling1Windows Server 2019 Standard / x64  OK    OK    OK    OK  
merida1macOS 10.14.6 Mojave / x86_64  OK    OK    OK    OK  UNNEEDED, same version is already published
Package 96/2068HostnameOS / ArchINSTALLBUILDCHECKBUILD BIN
autonomics 1.3.0  (landing page)
Aditya Bhagwat
git_last_commit: 8920c88
git_last_commit_date: 2021-10-26 13:07:36 -0500
nebbiolo1Linux (Ubuntu 20.04.3 LTS) / x86_64  OK    OK    WARNINGS  UNNEEDED, same version is already published
riesling1Windows Server 2019 Standard / x64  OK    OK    WARNINGS    OK  
merida1macOS 10.14.6 Mojave / x86_64  OK    OK    WARNINGS    OK  UNNEEDED, same version is already published
Package 97/2068HostnameOS / ArchINSTALLBUILDCHECKBUILD BIN
Autotuner 1.9.1  (landing page)
Craig McLean
git_last_commit: 11790e4
git_last_commit_date: 2021-11-15 13:31:00 -0500
nebbiolo1Linux (Ubuntu 20.04.3 LTS) / x86_64  OK    ERROR  skipped
riesling1Windows Server 2019 Standard / x64  OK    ERROR  skippedskipped
merida1macOS 10.14.6 Mojave / x86_64  OK    ERROR  skippedskipped
Package 98/2068HostnameOS / ArchINSTALLBUILDCHECKBUILD BIN
AWFisher 1.9.0  (landing page)
Zhiguang Huo
git_last_commit: 6840405
git_last_commit_date: 2021-10-26 12:52:57 -0500
nebbiolo1Linux (Ubuntu 20.04.3 LTS) / x86_64  OK    OK    OK  UNNEEDED, same version is already published
riesling1Windows Server 2019 Standard / x64  OK    OK    OK    OK  
merida1macOS 10.14.6 Mojave / x86_64  OK    OK    OK    OK  UNNEEDED, same version is already published
Package 99/2068HostnameOS / ArchINSTALLBUILDCHECKBUILD BIN
awst 1.3.0  (landing page)
Davide Risso
git_last_commit: cfa3c2c
git_last_commit_date: 2021-10-26 13:09:16 -0500
nebbiolo1Linux (Ubuntu 20.04.3 LTS) / x86_64  OK    OK    OK  UNNEEDED, same version is already published
riesling1Windows Server 2019 Standard / x64  OK    OK    OK    OK  
merida1macOS 10.14.6 Mojave / x86_64  OK    OK    OK    OK  UNNEEDED, same version is already published
B
ABCDEFGHIJKLMNOPQRSTUVWXYZ
Package 100/2068HostnameOS / ArchINSTALLBUILDCHECKBUILD BIN
BaalChIP 1.21.0  (landing page)
Ines de Santiago
git_last_commit: c7fabe0
git_last_commit_date: 2021-10-26 12:30:00 -0500
nebbiolo1Linux (Ubuntu 20.04.3 LTS) / x86_64  OK    OK    WARNINGS  UNNEEDED, same version is already published
riesling1Windows Server 2019 Standard / x64  OK    OK    WARNINGS    OK  
merida1macOS 10.14.6 Mojave / x86_64  OK    OK    WARNINGS    OK  UNNEEDED, same version is already published
Package 101/2068HostnameOS / ArchINSTALLBUILDCHECKBUILD BIN
BAC 1.55.0  (landing page)
Raphael Gottardo
git_last_commit: 45fcdd6
git_last_commit_date: 2021-10-26 11:51:51 -0500
nebbiolo1Linux (Ubuntu 20.04.3 LTS) / x86_64  OK    OK    OK  UNNEEDED, same version is already published
riesling1Windows Server 2019 Standard / x64  OK    OK    OK    OK  
merida1macOS 10.14.6 Mojave / x86_64  OK    OK    OK    OK  UNNEEDED, same version is already published
Package 102/2068HostnameOS / ArchINSTALLBUILDCHECKBUILD BIN
bacon 1.23.0  (landing page)
Maarten van Iterson
git_last_commit: 46c0a00
git_last_commit_date: 2021-10-26 12:26:13 -0500
nebbiolo1Linux (Ubuntu 20.04.3 LTS) / x86_64  OK    OK    OK  UNNEEDED, same version is already published
riesling1Windows Server 2019 Standard / x64  OK    OK    OK    OK  
merida1macOS 10.14.6 Mojave / x86_64  OK    OK    OK    OK  UNNEEDED, same version is already published
Package 103/2068HostnameOS / ArchINSTALLBUILDCHECKBUILD BIN
BADER 1.33.0  (landing page)
Andreas Neudecker
git_last_commit: 0a436a9
git_last_commit_date: 2021-10-26 12:09:47 -0500
nebbiolo1Linux (Ubuntu 20.04.3 LTS) / x86_64  OK    OK    OK  UNNEEDED, same version is already published
riesling1Windows Server 2019 Standard / x64  OK    OK    OK    OK  
merida1macOS 10.14.6 Mojave / x86_64  OK    OK    OK    OK  UNNEEDED, same version is already published
Package 104/2068HostnameOS / ArchINSTALLBUILDCHECKBUILD BIN
BadRegionFinder 1.23.0  (landing page)
Sarah Sandmann
git_last_commit: 873c415
git_last_commit_date: 2021-10-26 12:26:51 -0500
nebbiolo1Linux (Ubuntu 20.04.3 LTS) / x86_64  OK    OK    OK  UNNEEDED, same version is already published
riesling1Windows Server 2019 Standard / x64  OK    OK    OK    OK  
merida1macOS 10.14.6 Mojave / x86_64  OK    OK    OK    OK  UNNEEDED, same version is already published
Package 105/2068HostnameOS / ArchINSTALLBUILDCHECKBUILD BIN
BAGS 2.35.0  (landing page)
Alejandro Quiroz-Zarate
git_last_commit: a5205be
git_last_commit_date: 2021-10-26 12:01:47 -0500
nebbiolo1Linux (Ubuntu 20.04.3 LTS) / x86_64  OK    OK    OK  UNNEEDED, same version is already published
riesling1Windows Server 2019 Standard / x64  OK    OK    OK    OK  
merida1macOS 10.14.6 Mojave / x86_64  OK    OK    OK    OK  UNNEEDED, same version is already published
Package 106/2068HostnameOS / ArchINSTALLBUILDCHECKBUILD BIN
ballgown 2.27.1  (landing page)
Jack Fu
git_last_commit: 1fbcd5f
git_last_commit_date: 2021-11-20 23:00:17 -0500
nebbiolo1Linux (Ubuntu 20.04.3 LTS) / x86_64  OK    OK    OK  UNNEEDED, same version is already published
riesling1Windows Server 2019 Standard / x64  OK    OK    OK    OK  
merida1macOS 10.14.6 Mojave / x86_64  OK    OK    OK    OK  UNNEEDED, same version is already published
Package 107/2068HostnameOS / ArchINSTALLBUILDCHECKBUILD BIN
bambu 2.1.1  (landing page)
Ying Chen
git_last_commit: 399b30a
git_last_commit_date: 2021-11-22 21:16:11 -0500
nebbiolo1Linux (Ubuntu 20.04.3 LTS) / x86_64  OK    OK    OK  UNNEEDED, same version is already published
riesling1Windows Server 2019 Standard / x64  OK    ERROR  skippedskipped
merida1macOS 10.14.6 Mojave / x86_64  OK    OK    OK    OK  UNNEEDED, same version is already published
Package 108/2068HostnameOS / ArchINSTALLBUILDCHECKBUILD BIN
bamsignals 1.27.1  (landing page)
Johannes Helmuth
git_last_commit: c40c4b0
git_last_commit_date: 2021-11-17 00:32:19 -0500
nebbiolo1Linux (Ubuntu 20.04.3 LTS) / x86_64  OK    OK    OK  UNNEEDED, same version is already published
riesling1Windows Server 2019 Standard / x64  OK    OK    OK    OK  
merida1macOS 10.14.6 Mojave / x86_64  OK    OK    OK    OK  UNNEEDED, same version is already published
Package 109/2068HostnameOS / ArchINSTALLBUILDCHECKBUILD BIN
BANDITS 1.11.0  (landing page)
Simone Tiberi
git_last_commit: 1053989
git_last_commit_date: 2021-10-26 12:50:57 -0500
nebbiolo1Linux (Ubuntu 20.04.3 LTS) / x86_64  OK    OK    OK  UNNEEDED, same version is already published
riesling1Windows Server 2019 Standard / x64  OK    OK    OK    OK  
merida1macOS 10.14.6 Mojave / x86_64  OK    OK    OK    OK  UNNEEDED, same version is already published
Package 110/2068HostnameOS / ArchINSTALLBUILDCHECKBUILD BIN
banocc 1.19.0  (landing page)
George Weingart
git_last_commit: 3e68a36
git_last_commit_date: 2021-10-26 12:34:28 -0500
nebbiolo1Linux (Ubuntu 20.04.3 LTS) / x86_64  OK    OK    OK  UNNEEDED, same version is already published
riesling1Windows Server 2019 Standard / x64  OK    ERROR  skippedskipped
merida1macOS 10.14.6 Mojave / x86_64  OK    OK    OK    OK  UNNEEDED, same version is already published
Package 111/2068HostnameOS / ArchINSTALLBUILDCHECKBUILD BIN
barcodetrackR 1.3.0  (landing page)
Diego Alexander Espinoza
git_last_commit: 6614c55
git_last_commit_date: 2021-10-26 13:08:19 -0500
nebbiolo1Linux (Ubuntu 20.04.3 LTS) / x86_64  OK    OK    OK  UNNEEDED, same version is already published
riesling1Windows Server 2019 Standard / x64  OK    OK    OK    OK  
merida1macOS 10.14.6 Mojave / x86_64  OK    OK    OK    OK  UNNEEDED, same version is already published
Package 112/2068HostnameOS / ArchINSTALLBUILDCHECKBUILD BIN
basecallQC 1.19.0  (landing page)
Thomas Carroll
git_last_commit: 7803528
git_last_commit_date: 2021-10-26 12:34:33 -0500
nebbiolo1Linux (Ubuntu 20.04.3 LTS) / x86_64  OK    OK    OK  UNNEEDED, same version is already published
riesling1Windows Server 2019 Standard / x64  OK    OK    OK    OK  
merida1macOS 10.14.6 Mojave / x86_64  OK    OK    OK    OK  UNNEEDED, same version is already published
Package 113/2068HostnameOS / ArchINSTALLBUILDCHECKBUILD BIN
BaseSpaceR 1.39.0  (landing page)
Jared O'Connell
git_last_commit: ea8dad7
git_last_commit_date: 2021-10-26 12:07:22 -0500
nebbiolo1Linux (Ubuntu 20.04.3 LTS) / x86_64  OK    OK    OK  UNNEEDED, same version is already published
riesling1Windows Server 2019 Standard / x64  OK    OK    OK    OK  
merida1macOS 10.14.6 Mojave / x86_64  OK    OK    OK    OK  UNNEEDED, same version is already published
Package 114/2068HostnameOS / ArchINSTALLBUILDCHECKBUILD BIN
Basic4Cseq 1.31.0  (landing page)
Carolin Walter
git_last_commit: 8975eb3
git_last_commit_date: 2021-10-26 12:12:12 -0500
nebbiolo1Linux (Ubuntu 20.04.3 LTS) / x86_64  OK    OK    OK  UNNEEDED, same version is already published
riesling1Windows Server 2019 Standard / x64  OK    OK    OK    OK  
merida1macOS 10.14.6 Mojave / x86_64  OK    OK    OK    OK  UNNEEDED, same version is already published
Package 115/2068HostnameOS / ArchINSTALLBUILDCHECKBUILD BIN
BASiCS 2.7.2  (landing page)
Alan O'Callaghan
git_last_commit: 0438367
git_last_commit_date: 2021-11-22 11:56:02 -0500
nebbiolo1Linux (Ubuntu 20.04.3 LTS) / x86_64  OK    OK    OK  UNNEEDED, same version is already published
riesling1Windows Server 2019 Standard / x64  OK    OK    OK    OK  
merida1macOS 10.14.6 Mojave / x86_64  OK    OK    OK    OK  UNNEEDED, same version is already published
Package 116/2068HostnameOS / ArchINSTALLBUILDCHECKBUILD BIN
BasicSTARRseq 1.23.0  (landing page)
Annika Buerger
git_last_commit: 5a1b8d8
git_last_commit_date: 2021-10-26 12:25:08 -0500
nebbiolo1Linux (Ubuntu 20.04.3 LTS) / x86_64  OK    OK    OK  UNNEEDED, same version is already published
riesling1Windows Server 2019 Standard / x64  OK    OK    OK    OK  
merida1macOS 10.14.6 Mojave / x86_64  OK    OK    OK    OK  UNNEEDED, same version is already published
Package 117/2068HostnameOS / ArchINSTALLBUILDCHECKBUILD BIN
basilisk 1.7.0  (landing page)
Aaron Lun
git_last_commit: 8f39b26
git_last_commit_date: 2021-10-26 12:57:18 -0500
nebbiolo1Linux (Ubuntu 20.04.3 LTS) / x86_64  OK    OK    OK  UNNEEDED, same version is already published
riesling1Windows Server 2019 Standard / x64  OK    OK    OK    OK  
merida1macOS 10.14.6 Mojave / x86_64  OK    OK    OK    OK  UNNEEDED, same version is already published
Package 118/2068HostnameOS / ArchINSTALLBUILDCHECKBUILD BIN
basilisk.utils 1.7.0  (landing page)
Aaron Lun
git_last_commit: 7caa3d6
git_last_commit_date: 2021-10-26 12:57:29 -0500
nebbiolo1Linux (Ubuntu 20.04.3 LTS) / x86_64  OK    OK    OK  UNNEEDED, same version is already published
riesling1Windows Server 2019 Standard / x64  OK    OK    OK    OK  
merida1macOS 10.14.6 Mojave / x86_64  OK    OK    OK    OK  UNNEEDED, same version is already published
Package 119/2068HostnameOS / ArchINSTALLBUILDCHECKBUILD BIN
batchelor 1.11.0  (landing page)
Aaron Lun
git_last_commit: be310ee
git_last_commit_date: 2021-10-26 12:50:33 -0500
nebbiolo1Linux (Ubuntu 20.04.3 LTS) / x86_64  OK    OK    OK  UNNEEDED, same version is already published
riesling1Windows Server 2019 Standard / x64  OK    OK    OK    OK  
merida1macOS 10.14.6 Mojave / x86_64  OK    OK    OK    OK  UNNEEDED, same version is already published
Package 120/2068HostnameOS / ArchINSTALLBUILDCHECKBUILD BIN
BatchQC 1.23.0  (landing page)
Solaiappan Manimaran
git_last_commit: f41d5d9
git_last_commit_date: 2021-10-26 12:27:06 -0500
nebbiolo1Linux (Ubuntu 20.04.3 LTS) / x86_64  OK    OK    OK  UNNEEDED, same version is already published
riesling1Windows Server 2019 Standard / x64  OK    OK    OK    OK  
merida1macOS 10.14.6 Mojave / x86_64  OK    OK    OK    OK  UNNEEDED, same version is already published
Package 121/2068HostnameOS / ArchINSTALLBUILDCHECKBUILD BIN
BayesKnockdown 1.21.0  (landing page)
William Chad Young
git_last_commit: 3ebdaef
git_last_commit_date: 2021-10-26 12:29:23 -0500
nebbiolo1Linux (Ubuntu 20.04.3 LTS) / x86_64  OK    OK    OK  UNNEEDED, same version is already published
riesling1Windows Server 2019 Standard / x64  OK    OK    OK    OK  
merida1macOS 10.14.6 Mojave / x86_64  OK    OK    OK    OK  UNNEEDED, same version is already published
Package 122/2068HostnameOS / ArchINSTALLBUILDCHECKBUILD BIN
BayesSpace 1.5.1  (landing page)
Matt Stone
git_last_commit: cd2c155
git_last_commit_date: 2021-11-03 20:00:01 -0500
nebbiolo1Linux (Ubuntu 20.04.3 LTS) / x86_64  OK    OK    OK  UNNEEDED, same version is already published
riesling1Windows Server 2019 Standard / x64  OK    OK    OK    OK  
merida1macOS 10.14.6 Mojave / x86_64  OK    OK    OK    OK  UNNEEDED, same version is already published
Package 123/2068HostnameOS / ArchINSTALLBUILDCHECKBUILD BIN
bayNorm 1.13.0  (landing page)
Wenhao Tang
git_last_commit: 173855d
git_last_commit_date: 2021-10-26 12:47:28 -0500
nebbiolo1Linux (Ubuntu 20.04.3 LTS) / x86_64  OK    OK    OK  UNNEEDED, same version is already published
riesling1Windows Server 2019 Standard / x64  OK    OK    OK    OK  
merida1macOS 10.14.6 Mojave / x86_64  OK    OK    OK    OK  UNNEEDED, same version is already published
Package 124/2068HostnameOS / ArchINSTALLBUILDCHECKBUILD BIN
baySeq 2.29.0  (landing page)
Thomas J. Hardcastle
git_last_commit: f32f016
git_last_commit_date: 2021-10-26 11:54:47 -0500
nebbiolo1Linux (Ubuntu 20.04.3 LTS) / x86_64  OK    OK    OK  UNNEEDED, same version is already published
riesling1Windows Server 2019 Standard / x64  OK    OK    OK    OK  
merida1macOS 10.14.6 Mojave / x86_64  OK    OK    OK    OK  UNNEEDED, same version is already published
Package 125/2068HostnameOS / ArchINSTALLBUILDCHECKBUILD BIN
BBCAnalyzer 1.25.0  (landing page)
Sarah Sandmann
git_last_commit: 97dce93
git_last_commit_date: 2021-10-26 12:22:06 -0500
nebbiolo1Linux (Ubuntu 20.04.3 LTS) / x86_64  OK    OK    OK  UNNEEDED, same version is already published
riesling1Windows Server 2019 Standard / x64  OK    OK    WARNINGS    OK  
merida1macOS 10.14.6 Mojave / x86_64  OK    OK    OK    OK  UNNEEDED, same version is already published
Package 126/2068HostnameOS / ArchINSTALLBUILDCHECKBUILD BIN
BCRANK 1.57.0  (landing page)
Adam Ameur
git_last_commit: 12031c5
git_last_commit_date: 2021-10-26 11:51:59 -0500
nebbiolo1Linux (Ubuntu 20.04.3 LTS) / x86_64  OK    OK    OK  UNNEEDED, same version is already published
riesling1Windows Server 2019 Standard / x64  OK    OK    OK    OK  
merida1macOS 10.14.6 Mojave / x86_64  OK    OK    OK    OK  UNNEEDED, same version is already published
Package 127/2068HostnameOS / ArchINSTALLBUILDCHECKBUILD BIN
bcSeq 1.17.0  (landing page)
Jiaxing Lin
git_last_commit: 2dfaa14
git_last_commit_date: 2021-10-26 12:40:11 -0500
nebbiolo1Linux (Ubuntu 20.04.3 LTS) / x86_64  OK    OK    WARNINGS  UNNEEDED, same version is already published
riesling1Windows Server 2019 Standard / x64  OK    OK    WARNINGS    OK  
merida1macOS 10.14.6 Mojave / x86_64  OK    OK    OK    OK  UNNEEDED, same version is already published
Package 128/2068HostnameOS / ArchINSTALLBUILDCHECKBUILD BIN
BDMMAcorrect 1.13.1  (landing page)
ZHENWEI DAI
git_last_commit: 5eacfb7
git_last_commit_date: 2021-11-20 23:00:48 -0500
nebbiolo1Linux (Ubuntu 20.04.3 LTS) / x86_64  OK    OK    OK  UNNEEDED, same version is already published
riesling1Windows Server 2019 Standard / x64  OK    OK    OK    OK  
merida1macOS 10.14.6 Mojave / x86_64  OK    OK    OK    OK  UNNEEDED, same version is already published
Package 129/2068HostnameOS / ArchINSTALLBUILDCHECKBUILD BIN
beachmat 2.11.0  (landing page)
Aaron Lun
git_last_commit: dd97920
git_last_commit_date: 2021-10-26 12:36:32 -0500
nebbiolo1Linux (Ubuntu 20.04.3 LTS) / x86_64  OK    OK    OK  UNNEEDED, same version is already published
riesling1Windows Server 2019 Standard / x64  OK    OK    OK    OK  
merida1macOS 10.14.6 Mojave / x86_64  OK    OK    OK    OK  UNNEEDED, same version is already published
Package 130/2068HostnameOS / ArchINSTALLBUILDCHECKBUILD BIN
beadarray 2.45.0  (landing page)
Mark Dunning
git_last_commit: 3ac2907
git_last_commit_date: 2021-10-26 11:49:14 -0500
nebbiolo1Linux (Ubuntu 20.04.3 LTS) / x86_64  OK    OK    OK  UNNEEDED, same version is already published
riesling1Windows Server 2019 Standard / x64  OK    OK    OK    OK  
merida1macOS 10.14.6 Mojave / x86_64  OK    OK    OK    OK  UNNEEDED, same version is already published
Package 131/2068HostnameOS / ArchINSTALLBUILDCHECKBUILD BIN
beadarraySNP 1.61.0  (landing page)
Jan Oosting
git_last_commit: 9aab19d
git_last_commit_date: 2021-10-26 11:50:17 -0500
nebbiolo1Linux (Ubuntu 20.04.3 LTS) / x86_64  OK    OK    OK  UNNEEDED, same version is already published
riesling1Windows Server 2019 Standard / x64  OK    OK    OK    OK  
merida1macOS 10.14.6 Mojave / x86_64  OK    OK    OK    OK  UNNEEDED, same version is already published
Package 132/2068HostnameOS / ArchINSTALLBUILDCHECKBUILD BIN
BeadDataPackR 1.47.0  (landing page)
Mike Smith
git_last_commit: eb85bbf
git_last_commit_date: 2021-10-26 11:55:42 -0500
nebbiolo1Linux (Ubuntu 20.04.3 LTS) / x86_64  OK    OK    OK  UNNEEDED, same version is already published
riesling1Windows Server 2019 Standard / x64  OK    OK    OK    OK  
merida1macOS 10.14.6 Mojave / x86_64  OK    OK    OK    OK  UNNEEDED, same version is already published
Package 133/2068HostnameOS / ArchINSTALLBUILDCHECKBUILD BIN
BEARscc 1.15.0  (landing page)
Benjamin Schuster-Boeckler
git_last_commit: 59225ae
git_last_commit_date: 2021-10-26 12:41:25 -0500
nebbiolo1Linux (Ubuntu 20.04.3 LTS) / x86_64  OK    OK    OK  UNNEEDED, same version is already published
riesling1Windows Server 2019 Standard / x64  OK    OK    OK    OK  
merida1macOS 10.14.6 Mojave / x86_64  OK    OK    OK    OK  UNNEEDED, same version is already published
Package 134/2068HostnameOS / ArchINSTALLBUILDCHECKBUILD BIN
BEAT 1.33.0  (landing page)
Kemal Akman
git_last_commit: 11aa516
git_last_commit_date: 2021-10-26 12:11:32 -0500
nebbiolo1Linux (Ubuntu 20.04.3 LTS) / x86_64  OK    OK    OK  UNNEEDED, same version is already published
riesling1Windows Server 2019 Standard / x64  OK    OK    OK    OK  
merida1macOS 10.14.6 Mojave / x86_64  OK    OK    OK    OK  UNNEEDED, same version is already published
Package 135/2068HostnameOS / ArchINSTALLBUILDCHECKBUILD BIN
BEclear 2.11.0  (landing page)
David Rasp
git_last_commit: dce6d08
git_last_commit_date: 2021-10-26 12:20:44 -0500
nebbiolo1Linux (Ubuntu 20.04.3 LTS) / x86_64  OK    OK    OK  UNNEEDED, same version is already published
riesling1Windows Server 2019 Standard / x64  OK    OK    OK    OK  
merida1macOS 10.14.6 Mojave / x86_64  OK    OK    OK    OK  UNNEEDED, same version is already published
Package 136/2068HostnameOS / ArchINSTALLBUILDCHECKBUILD BIN
benchdamic 1.1.0  (landing page)
Matteo Calgaro
git_last_commit: 7854ed4
git_last_commit_date: 2021-10-26 13:13:35 -0500
nebbiolo1Linux (Ubuntu 20.04.3 LTS) / x86_64  OK    OK    OK  UNNEEDED, same version is already published
riesling1Windows Server 2019 Standard / x64  OK    OK    OK    OK  
merida1macOS 10.14.6 Mojave / x86_64  OK    OK    OK    OK  UNNEEDED, same version is already published
Package 137/2068HostnameOS / ArchINSTALLBUILDCHECKBUILD BIN
BgeeCall 1.11.0  (landing page)
Julien Wollbrett
git_last_commit: aa9b0f1
git_last_commit_date: 2021-10-26 12:56:46 -0500
nebbiolo1Linux (Ubuntu 20.04.3 LTS) / x86_64  OK    OK    OK  UNNEEDED, same version is already published
riesling1Windows Server 2019 Standard / x64  OK    OK    OK    OK  
merida1macOS 10.14.6 Mojave / x86_64  OK    OK    OK    OK  UNNEEDED, same version is already published
Package 138/2068HostnameOS / ArchINSTALLBUILDCHECKBUILD BIN
BgeeDB 2.21.0  (landing page)
Julien Wollbrett , Julien Roux , Andrea Komljenovic , Frederic Bastian
git_last_commit: b89da35
git_last_commit_date: 2021-10-26 12:27:16 -0500
nebbiolo1Linux (Ubuntu 20.04.3 LTS) / x86_64  OK    OK    OK  UNNEEDED, same version is already published
riesling1Windows Server 2019 Standard / x64  OK    OK    OK    OK  
merida1macOS 10.14.6 Mojave / x86_64  OK    OK    OK    OK  UNNEEDED, same version is already published
Package 139/2068HostnameOS / ArchINSTALLBUILDCHECKBUILD BIN
BGmix 1.55.0  (landing page)
Alex Lewin
git_last_commit: eecc669
git_last_commit_date: 2021-10-26 11:51:44 -0500
nebbiolo1Linux (Ubuntu 20.04.3 LTS) / x86_64  OK    OK    WARNINGS  UNNEEDED, same version is already published
riesling1Windows Server 2019 Standard / x64... NOT SUPPORTED ...
merida1macOS 10.14.6 Mojave / x86_64  OK    OK    OK    OK  UNNEEDED, same version is already published
Package 140/2068HostnameOS / ArchINSTALLBUILDCHECKBUILD BIN
bgx 1.61.0  (landing page)
Ernest Turro
git_last_commit: 7c90642
git_last_commit_date: 2021-10-26 11:51:11 -0500
nebbiolo1Linux (Ubuntu 20.04.3 LTS) / x86_64  OK    OK    OK  UNNEEDED, same version is already published
riesling1Windows Server 2019 Standard / x64  OK    OK    OK    OK  
merida1macOS 10.14.6 Mojave / x86_64  OK    OK    WARNINGS    OK  UNNEEDED, same version is already published
Package 141/2068HostnameOS / ArchINSTALLBUILDCHECKBUILD BIN
BHC 1.47.0  (landing page)
Rich Savage
git_last_commit: b273ede
git_last_commit_date: 2021-10-26 11:56:24 -0500
nebbiolo1Linux (Ubuntu 20.04.3 LTS) / x86_64  OK    OK    OK  UNNEEDED, same version is already published
riesling1Windows Server 2019 Standard / x64  OK    OK    OK    OK  
merida1macOS 10.14.6 Mojave / x86_64  OK    OK    WARNINGS    OK  UNNEEDED, same version is already published
Package 142/2068HostnameOS / ArchINSTALLBUILDCHECKBUILD BIN
BicARE 1.53.0  (landing page)
Pierre Gestraud
git_last_commit: 8da5398
git_last_commit_date: 2021-10-26 11:53:14 -0500
nebbiolo1Linux (Ubuntu 20.04.3 LTS) / x86_64  OK    OK    OK  UNNEEDED, same version is already published
riesling1Windows Server 2019 Standard / x64  OK    OK    OK    OK  
merida1macOS 10.14.6 Mojave / x86_64  OK    OK    OK    OK  UNNEEDED, same version is already published
Package 143/2068HostnameOS / ArchINSTALLBUILDCHECKBUILD BIN
BiFET 1.15.1  (landing page)
Ahrim Youn
git_last_commit: 313bc3f
git_last_commit_date: 2021-11-20 23:01:10 -0500
nebbiolo1Linux (Ubuntu 20.04.3 LTS) / x86_64  OK    OK    OK  UNNEEDED, same version is already published
riesling1Windows Server 2019 Standard / x64  OK    OK    OK    OK  
merida1macOS 10.14.6 Mojave / x86_64  OK    OK    OK    OK  UNNEEDED, same version is already published
Package 144/2068HostnameOS / ArchINSTALLBUILDCHECKBUILD BIN
BiGGR 1.31.0  (landing page)
Anand K. Gavai
git_last_commit: 3e505d2
git_last_commit_date: 2021-10-26 12:09:42 -0500
nebbiolo1Linux (Ubuntu 20.04.3 LTS) / x86_64  OK    OK    OK  UNNEEDED, same version is already published
riesling1Windows Server 2019 Standard / x64  OK    OK    OK    OK  
merida1macOS 10.14.6 Mojave / x86_64... NOT SUPPORTED ...
Package 145/2068HostnameOS / ArchINSTALLBUILDCHECKBUILD BIN
bigmelon 1.21.0  (landing page)
Tyler J. Gorrie-Stone
git_last_commit: 8a43e71
git_last_commit_date: 2021-10-26 12:30:04 -0500
nebbiolo1Linux (Ubuntu 20.04.3 LTS) / x86_64  OK    OK    WARNINGS  UNNEEDED, same version is already published
riesling1Windows Server 2019 Standard / x64  OK    OK    WARNINGS    OK  
merida1macOS 10.14.6 Mojave / x86_64  OK    OK    WARNINGS    OK  NO, package depends on 'wateRmelon' which is not available
Package 146/2068HostnameOS / ArchINSTALLBUILDCHECKBUILD BIN
bigPint 1.11.0  (landing page)
Lindsay Rutter
git_last_commit: 1b28eff
git_last_commit_date: 2021-10-26 12:49:05 -0500
nebbiolo1Linux (Ubuntu 20.04.3 LTS) / x86_64  OK    OK    WARNINGS  UNNEEDED, same version is already published
riesling1Windows Server 2019 Standard / x64  OK    OK    WARNINGS    OK  
merida1macOS 10.14.6 Mojave / x86_64  OK    OK    WARNINGS    OK  UNNEEDED, same version is already published
Package 147/2068HostnameOS / ArchINSTALLBUILDCHECKBUILD BIN
BindingSiteFinder 1.1.1  (landing page)
Mirko Brüggemann
git_last_commit: 5008b01
git_last_commit_date: 2021-11-24 04:43:56 -0500
nebbiolo1Linux (Ubuntu 20.04.3 LTS) / x86_64  OK    OK    OK  YES
riesling1Windows Server 2019 Standard / x64  OK    OK    OK    OK  
merida1macOS 10.14.6 Mojave / x86_64  OK    OK    OK    OK  YES
Package 148/2068HostnameOS / ArchINSTALLBUILDCHECKBUILD BIN
bioassayR 1.33.0  (landing page)
Daniela Cassol
git_last_commit: 26f02fe
git_last_commit_date: 2021-10-26 12:10:12 -0500
nebbiolo1Linux (Ubuntu 20.04.3 LTS) / x86_64  OK    OK    OK  UNNEEDED, same version is already published
riesling1Windows Server 2019 Standard / x64  OK    OK    OK    OK  
merida1macOS 10.14.6 Mojave / x86_64  OK    OK    OK    OK  NO, package depends on 'ChemmineR' which is not available
Package 149/2068HostnameOS / ArchINSTALLBUILDCHECKBUILD BIN
Biobase 2.55.0  (landing page)
Bioconductor Package Maintainer
git_last_commit: 9dae83f
git_last_commit_date: 2021-10-26 11:45:25 -0500
nebbiolo1Linux (Ubuntu 20.04.3 LTS) / x86_64  OK    OK    OK  UNNEEDED, same version is already published
riesling1Windows Server 2019 Standard / x64  OK    OK    OK    OK  
merida1macOS 10.14.6 Mojave / x86_64  OK    OK    OK    OK  UNNEEDED, same version is already published
Package 150/2068HostnameOS / ArchINSTALLBUILDCHECKBUILD BIN
biobroom 1.27.0  (landing page)
John D. Storey and Andrew J. Bass
git_last_commit: 9424ec8
git_last_commit_date: 2021-10-26 12:23:36 -0500
nebbiolo1Linux (Ubuntu 20.04.3 LTS) / x86_64  OK    OK    WARNINGS  UNNEEDED, same version is already published
riesling1Windows Server 2019 Standard / x64  OK    OK    WARNINGS    OK  
merida1macOS 10.14.6 Mojave / x86_64  OK    OK    WARNINGS    OK  UNNEEDED, same version is already published
Package 151/2068HostnameOS / ArchINSTALLBUILDCHECKBUILD BIN
biobtreeR 1.7.0  (landing page)
Tamer Gur
git_last_commit: 6a404a9
git_last_commit_date: 2021-10-26 12:56:33 -0500
nebbiolo1Linux (Ubuntu 20.04.3 LTS) / x86_64  OK    OK    OK  UNNEEDED, same version is already published
riesling1Windows Server 2019 Standard / x64  OK    OK    OK    OK  
merida1macOS 10.14.6 Mojave / x86_64  OK    OK    OK    OK  UNNEEDED, same version is already published
Package 152/2068HostnameOS / ArchINSTALLBUILDCHECKBUILD BIN
bioCancer 1.23.0  (landing page)
Karim Mezhoud
git_last_commit: 9e8b914
git_last_commit_date: 2021-10-26 12:28:03 -0500
nebbiolo1Linux (Ubuntu 20.04.3 LTS) / x86_64  OK    OK    OK  UNNEEDED, same version is already published
riesling1Windows Server 2019 Standard / x64  OK    OK    OK    OK  
merida1macOS 10.14.6 Mojave / x86_64  OK    OK    OK    OK  NO, package depends on 'DOSE' which is not available
Package 153/2068HostnameOS / ArchINSTALLBUILDCHECKBUILD BIN
BiocCheck 1.31.13  (landing page)
Bioconductor Package Maintainer
git_last_commit: 21d8b52
git_last_commit_date: 2021-11-22 18:13:40 -0500
nebbiolo1Linux (Ubuntu 20.04.3 LTS) / x86_64  OK    OK    OK  UNNEEDED, same version is already published
riesling1Windows Server 2019 Standard / x64  OK    OK    OK    OK  
merida1macOS 10.14.6 Mojave / x86_64  OK    OK    OK    OK  UNNEEDED, same version is already published
Package 154/2068HostnameOS / ArchINSTALLBUILDCHECKBUILD BIN
BiocDockerManager 1.7.0  (landing page)
Bioconductor Package Maintainer
git_last_commit: ea98669
git_last_commit_date: 2021-10-26 12:58:27 -0500
nebbiolo1Linux (Ubuntu 20.04.3 LTS) / x86_64  OK    OK    OK  UNNEEDED, same version is already published
riesling1Windows Server 2019 Standard / x64  OK    OK    OK    OK  
merida1macOS 10.14.6 Mojave / x86_64  OK    OK    OK    OK  UNNEEDED, same version is already published
Package 155/2068HostnameOS / ArchINSTALLBUILDCHECKBUILD BIN
BiocFileCache 2.3.0  (landing page)
Lori Shepherd
git_last_commit: b8dd216
git_last_commit_date: 2021-10-26 12:33:57 -0500
nebbiolo1Linux (Ubuntu 20.04.3 LTS) / x86_64  OK    OK    OK  UNNEEDED, same version is already published
riesling1Windows Server 2019 Standard / x64  OK    OK    OK    OK  
merida1macOS 10.14.6 Mojave / x86_64  OK    OK    OK    OK  UNNEEDED, same version is already published
Package 156/2068HostnameOS / ArchINSTALLBUILDCHECKBUILD BIN
BiocGenerics 0.41.2  (landing page)
Bioconductor Package Maintainer
git_last_commit: 1272791
git_last_commit_date: 2021-11-14 18:22:57 -0500
nebbiolo1Linux (Ubuntu 20.04.3 LTS) / x86_64  OK    OK    WARNINGS  UNNEEDED, same version is already published
riesling1Windows Server 2019 Standard / x64  OK    OK    WARNINGS    OK  
merida1macOS 10.14.6 Mojave / x86_64  OK    OK    WARNINGS    OK  UNNEEDED, same version is already published
Package 157/2068HostnameOS / ArchINSTALLBUILDCHECKBUILD BIN
biocGraph 1.57.0  (landing page)
Florian Hahne
git_last_commit: 926576b
git_last_commit_date: 2021-10-26 11:51:19 -0500
nebbiolo1Linux (Ubuntu 20.04.3 LTS) / x86_64  OK    OK    OK  UNNEEDED, same version is already published
riesling1Windows Server 2019 Standard / x64  OK    OK    OK    OK  
merida1macOS 10.14.6 Mojave / x86_64  OK    OK    OK    OK  UNNEEDED, same version is already published
Package 158/2068HostnameOS / ArchINSTALLBUILDCHECKBUILD BIN
BiocIO 1.5.0  (landing page)
Bioconductor Package Maintainer
git_last_commit: 260a1fa
git_last_commit_date: 2021-10-26 13:01:59 -0500
nebbiolo1Linux (Ubuntu 20.04.3 LTS) / x86_64  OK    OK    OK  UNNEEDED, same version is already published
riesling1Windows Server 2019 Standard / x64  OK    OK    OK    OK  
merida1macOS 10.14.6 Mojave / x86_64  OK    OK    OK    OK  UNNEEDED, same version is already published
Package 159/2068HostnameOS / ArchINSTALLBUILDCHECKBUILD BIN
BiocNeighbors 1.13.0  (landing page)
Aaron Lun
git_last_commit: 244b2d4
git_last_commit_date: 2021-10-26 12:45:33 -0500
nebbiolo1Linux (Ubuntu 20.04.3 LTS) / x86_64  OK    OK    OK  UNNEEDED, same version is already published
riesling1Windows Server 2019 Standard / x64  OK    OK    OK    OK  
merida1macOS 10.14.6 Mojave / x86_64  OK    OK    OK    OK  UNNEEDED, same version is already published
Package 160/2068HostnameOS / ArchINSTALLBUILDCHECKBUILD BIN
BiocOncoTK 1.15.0  (landing page)
VJ Carey
git_last_commit: 8d8ce4a
git_last_commit_date: 2021-10-26 12:44:33 -0500
nebbiolo1Linux (Ubuntu 20.04.3 LTS) / x86_64  OK    OK    OK  UNNEEDED, same version is already published
riesling1Windows Server 2019 Standard / x64  OK    OK    OK    OK  
merida1macOS 10.14.6 Mojave / x86_64  OK    OK    OK    OK  UNNEEDED, same version is already published
Package 161/2068HostnameOS / ArchINSTALLBUILDCHECKBUILD BIN
BioCor 1.19.0  (landing page)
Lluís Revilla Sancho
git_last_commit: 703c781
git_last_commit_date: 2021-10-26 12:33:55 -0500
nebbiolo1Linux (Ubuntu 20.04.3 LTS) / x86_64  OK    OK    OK  UNNEEDED, same version is already published
riesling1Windows Server 2019 Standard / x64  OK    OK    OK    OK  
merida1macOS 10.14.6 Mojave / x86_64  OK    OK    OK    OK  UNNEEDED, same version is already published
Package 162/2068HostnameOS / ArchINSTALLBUILDCHECKBUILD BIN
BiocParallel 1.29.3  (landing page)
Bioconductor Package Maintainer
git_last_commit: 376348c
git_last_commit_date: 2021-11-24 13:08:38 -0500
nebbiolo1Linux (Ubuntu 20.04.3 LTS) / x86_64  OK    OK    OK  YES
riesling1Windows Server 2019 Standard / x64  OK    OK    OK    OK  
merida1macOS 10.14.6 Mojave / x86_64  OK    OK    OK    OK  YES
Package 163/2068HostnameOS / ArchINSTALLBUILDCHECKBUILD BIN
BiocPkgTools 1.13.2  (landing page)
Sean Davis
git_last_commit: 2296aae
git_last_commit_date: 2021-11-04 13:54:02 -0500
nebbiolo1Linux (Ubuntu 20.04.3 LTS) / x86_64  OK    OK    OK  UNNEEDED, same version is already published
riesling1Windows Server 2019 Standard / x64  OK    OK    OK    OK  
merida1macOS 10.14.6 Mojave / x86_64  OK    OK    OK    OK  UNNEEDED, same version is already published
Package 164/2068HostnameOS / ArchINSTALLBUILDCHECKBUILD BIN
BiocSet 1.9.1  (landing page)
Kayla Morrell
git_last_commit: ad19adf
git_last_commit_date: 2021-11-02 15:26:58 -0500
nebbiolo1Linux (Ubuntu 20.04.3 LTS) / x86_64  OK    OK    OK  UNNEEDED, same version is already published
riesling1Windows Server 2019 Standard / x64  OK    OK    OK    OK  
merida1macOS 10.14.6 Mojave / x86_64  OK    OK    OK    OK  UNNEEDED, same version is already published
Package 165/2068HostnameOS / ArchINSTALLBUILDCHECKBUILD BIN
BiocSingular 1.11.0  (landing page)
Aaron Lun
git_last_commit: 706a908
git_last_commit_date: 2021-10-26 12:49:33 -0500
nebbiolo1Linux (Ubuntu 20.04.3 LTS) / x86_64  OK    OK    OK  UNNEEDED, same version is already published
riesling1Windows Server 2019 Standard / x64  OK    OK    OK    OK  
merida1macOS 10.14.6 Mojave / x86_64  OK    OK    OK    OK  UNNEEDED, same version is already published
Package 166/2068HostnameOS / ArchINSTALLBUILDCHECKBUILD BIN
BiocSklearn 1.17.0  (landing page)
Vince Carey
git_last_commit: f64feab
git_last_commit_date: 2021-10-26 12:36:55 -0500
nebbiolo1Linux (Ubuntu 20.04.3 LTS) / x86_64  OK    OK    OK  UNNEEDED, same version is already published
riesling1Windows Server 2019 Standard / x64  OK    OK    OK    OK  
merida1macOS 10.14.6 Mojave / x86_64  OK    OK    OK    OK  UNNEEDED, same version is already published
Package 167/2068HostnameOS / ArchINSTALLBUILDCHECKBUILD BIN
BiocStyle 2.23.0  (landing page)
Bioconductor Package
git_last_commit: 0d7515b
git_last_commit_date: 2021-10-26 12:08:44 -0500
nebbiolo1Linux (Ubuntu 20.04.3 LTS) / x86_64  OK    OK    OK  UNNEEDED, same version is already published
riesling1Windows Server 2019 Standard / x64  OK    OK    OK    OK  
merida1macOS 10.14.6 Mojave / x86_64  OK    OK    OK    OK  UNNEEDED, same version is already published
Package 168/2068HostnameOS / ArchINSTALLBUILDCHECKBUILD BIN
biocthis 1.5.0  (landing page)
Leonardo Collado-Torres
git_last_commit: 341ae80
git_last_commit_date: 2021-11-22 22:20:46 -0500
nebbiolo1Linux (Ubuntu 20.04.3 LTS) / x86_64  OK    OK    OK  UNNEEDED, same version is already published
riesling1Windows Server 2019 Standard / x64  OK    OK    OK    OK  
merida1macOS 10.14.6 Mojave / x86_64  OK    OK    OK    OK  UNNEEDED, same version is already published
Package 169/2068HostnameOS / ArchINSTALLBUILDCHECKBUILD BIN
BiocVersion 3.15.0  (landing page)
Bioconductor Package Maintainer
git_last_commit: 0609102
git_last_commit_date: 2021-10-26 12:44:55 -0500
nebbiolo1Linux (Ubuntu 20.04.3 LTS) / x86_64  OK    OK    OK  UNNEEDED, same version is already published
riesling1Windows Server 2019 Standard / x64  OK    OK    OK    OK  
merida1macOS 10.14.6 Mojave / x86_64  OK    OK    OK    OK  UNNEEDED, same version is already published
Package 170/2068HostnameOS / ArchINSTALLBUILDCHECKBUILD BIN
biocViews 1.63.2  (landing page)
Bioconductor Package Maintainer
git_last_commit: 3416739
git_last_commit_date: 2021-11-01 13:32:42 -0500
nebbiolo1Linux (Ubuntu 20.04.3 LTS) / x86_64  OK    OK    OK  UNNEEDED, same version is already published
riesling1Windows Server 2019 Standard / x64  OK    OK    OK    OK  
merida1macOS 10.14.6 Mojave / x86_64  OK    OK    OK    OK  UNNEEDED, same version is already published
Package 171/2068HostnameOS / ArchINSTALLBUILDCHECKBUILD BIN
BiocWorkflowTools 1.21.0  (landing page)
Mike Smith
git_last_commit: 8953f38
git_last_commit_date: 2021-10-26 12:29:58 -0500
nebbiolo1Linux (Ubuntu 20.04.3 LTS) / x86_64  OK    OK    OK  UNNEEDED, same version is already published
riesling1Windows Server 2019 Standard / x64  OK    OK    OK    OK  
merida1macOS 10.14.6 Mojave / x86_64  OK    OK    OK    OK  UNNEEDED, same version is already published
Package 172/2068HostnameOS / ArchINSTALLBUILDCHECKBUILD BIN
biodb 1.3.0  (landing page)
Pierrick Roger
git_last_commit: f3ba1d8
git_last_commit_date: 2021-10-27 08:52:13 -0500
nebbiolo1Linux (Ubuntu 20.04.3 LTS) / x86_64  OK    OK    OK  UNNEEDED, same version is already published
riesling1Windows Server 2019 Standard / x64  OK    OK    OK    OK  
merida1macOS 10.14.6 Mojave / x86_64  OK    OK    OK    OK  UNNEEDED, same version is already published
Package 173/2068HostnameOS / ArchINSTALLBUILDCHECKBUILD BIN
biodbChebi 1.1.0  (landing page)
Pierrick Roger
git_last_commit: 3c2eb18
git_last_commit_date: 2021-10-26 13:12:43 -0500
nebbiolo1Linux (Ubuntu 20.04.3 LTS) / x86_64  OK    OK    OK  UNNEEDED, same version is already published
riesling1Windows Server 2019 Standard / x64  OK    OK    OK    OK  
merida1macOS 10.14.6 Mojave / x86_64  OK    OK    OK    OK  UNNEEDED, same version is already published
Package 174/2068HostnameOS / ArchINSTALLBUILDCHECKBUILD BIN
biodbHmdb 1.1.1  (landing page)
Pierrick Roger
git_last_commit: 6f804d8
git_last_commit_date: 2021-10-27 04:57:48 -0500
nebbiolo1Linux (Ubuntu 20.04.3 LTS) / x86_64  OK    OK    OK  UNNEEDED, same version is already published
riesling1Windows Server 2019 Standard / x64  OK    OK    OK    OK  
merida1macOS 10.14.6 Mojave / x86_64  OK    OK    OK    OK  UNNEEDED, same version is already published
Package 175/2068HostnameOS / ArchINSTALLBUILDCHECKBUILD BIN
biodbKegg 1.1.0  (landing page)
Pierrick Roger
git_last_commit: 2b7d004
git_last_commit_date: 2021-10-26 13:13:42 -0500
nebbiolo1Linux (Ubuntu 20.04.3 LTS) / x86_64  OK    OK    OK  UNNEEDED, same version is already published
riesling1Windows Server 2019 Standard / x64  OK    OK    OK    OK  
merida1macOS 10.14.6 Mojave / x86_64  OK    ERROR  skippedskipped
Package 176/2068HostnameOS / ArchINSTALLBUILDCHECKBUILD BIN
biodbLipidmaps 1.1.0  (landing page)
Pierrick Roger
git_last_commit: 9dd99d1
git_last_commit_date: 2021-10-26 13:14:11 -0500
nebbiolo1Linux (Ubuntu 20.04.3 LTS) / x86_64  OK    OK    OK  UNNEEDED, same version is already published
riesling1Windows Server 2019 Standard / x64  OK    OK    OK    OK  
merida1macOS 10.14.6 Mojave / x86_64  OK    OK    OK    OK  UNNEEDED, same version is already published
Package 177/2068HostnameOS / ArchINSTALLBUILDCHECKBUILD BIN
biodbUniprot 1.1.0  (landing page)
Pierrick Roger
git_last_commit: 1495876
git_last_commit_date: 2021-10-26 13:13:21 -0500
nebbiolo1Linux (Ubuntu 20.04.3 LTS) / x86_64  OK    OK    OK  UNNEEDED, same version is already published
riesling1Windows Server 2019 Standard / x64  OK    OK    OK    OK  
merida1macOS 10.14.6 Mojave / x86_64  OK    OK    OK    OK  UNNEEDED, same version is already published
Package 178/2068HostnameOS / ArchINSTALLBUILDCHECKBUILD BIN
bioDist 1.67.0  (landing page)
Bioconductor Package Maintainer
git_last_commit: 4f2f83d
git_last_commit_date: 2021-10-26 11:47:35 -0500
nebbiolo1Linux (Ubuntu 20.04.3 LTS) / x86_64  OK    OK    OK  UNNEEDED, same version is already published
riesling1Windows Server 2019 Standard / x64  OK    OK    OK    OK  
merida1macOS 10.14.6 Mojave / x86_64  OK    OK    OK    OK  UNNEEDED, same version is already published
Package 179/2068HostnameOS / ArchINSTALLBUILDCHECKBUILD BIN
biomaRt 2.51.1  (landing page)
Mike Smith
git_last_commit: 2188748
git_last_commit_date: 2021-11-19 03:31:19 -0500
nebbiolo1Linux (Ubuntu 20.04.3 LTS) / x86_64  OK    OK    OK  UNNEEDED, same version is already published
riesling1Windows Server 2019 Standard / x64  OK    OK    OK    OK  
merida1macOS 10.14.6 Mojave / x86_64  OK    OK    OK    OK  UNNEEDED, same version is already published
Package 180/2068HostnameOS / ArchINSTALLBUILDCHECKBUILD BIN
biomformat 1.23.0  (landing page)
Paul J. McMurdie
git_last_commit: 0ddeea2
git_last_commit_date: 2021-10-26 12:24:06 -0500
nebbiolo1Linux (Ubuntu 20.04.3 LTS) / x86_64  OK    OK    WARNINGS  UNNEEDED, same version is already published
riesling1Windows Server 2019 Standard / x64  OK    OK    WARNINGS    OK  
merida1macOS 10.14.6 Mojave / x86_64  OK    OK    WARNINGS    OK  UNNEEDED, same version is already published
Package 181/2068HostnameOS / ArchINSTALLBUILDCHECKBUILD BIN
BioMM 1.11.0  (landing page)
Junfang Chen
git_last_commit: bf4689d
git_last_commit_date: 2021-10-26 12:49:29 -0500
nebbiolo1Linux (Ubuntu 20.04.3 LTS) / x86_64  OK    OK    OK  UNNEEDED, same version is already published
riesling1Windows Server 2019 Standard / x64  OK    OK    OK    OK  
merida1macOS 10.14.6 Mojave / x86_64  OK    OK    OK    OK  UNNEEDED, same version is already published
Package 182/2068HostnameOS / ArchINSTALLBUILDCHECKBUILD BIN
BioMVCClass 1.63.0  (landing page)
Elizabeth Whalen
git_last_commit: bfc4e49
git_last_commit_date: 2021-10-26 11:50:10 -0500
nebbiolo1Linux (Ubuntu 20.04.3 LTS) / x86_64  OK    OK    OK  UNNEEDED, same version is already published
riesling1Windows Server 2019 Standard / x64  OK    OK    OK    OK  
merida1macOS 10.14.6 Mojave / x86_64  OK    OK    OK    OK  UNNEEDED, same version is already published
Package 183/2068HostnameOS / ArchINSTALLBUILDCHECKBUILD BIN
biomvRCNS 1.35.1  (landing page)
Yang Du
git_last_commit: bf846ae
git_last_commit_date: 2021-11-20 23:10:08 -0500
nebbiolo1Linux (Ubuntu 20.04.3 LTS) / x86_64  OK    OK    OK  UNNEEDED, same version is already published
riesling1Windows Server 2019 Standard / x64  OK    OK    OK    OK  
merida1macOS 10.14.6 Mojave / x86_64  OK    OK    OK    OK  YES
Package 184/2068HostnameOS / ArchINSTALLBUILDCHECKBUILD BIN
BioNERO 1.3.0  (landing page)
Fabricio Almeida-Silva
git_last_commit: 47d4c2a
git_last_commit_date: 2021-10-26 13:08:05 -0500
nebbiolo1Linux (Ubuntu 20.04.3 LTS) / x86_64  OK    OK    OK  UNNEEDED, same version is already published
riesling1Windows Server 2019 Standard / x64  OK    OK    OK    OK  
merida1macOS 10.14.6 Mojave / x86_64  OK    OK    OK    OK  UNNEEDED, same version is already published
Package 185/2068HostnameOS / ArchINSTALLBUILDCHECKBUILD BIN
BioNet 1.55.0  (landing page)
Marcus Dittrich
git_last_commit: 79979a9
git_last_commit_date: 2021-10-26 11:56:40 -0500
nebbiolo1Linux (Ubuntu 20.04.3 LTS) / x86_64  OK    OK    OK  UNNEEDED, same version is already published
riesling1Windows Server 2019 Standard / x64  OK    OK    OK    OK  
merida1macOS 10.14.6 Mojave / x86_64  OK    OK    OK    OK  UNNEEDED, same version is already published
Package 186/2068HostnameOS / ArchINSTALLBUILDCHECKBUILD BIN
BioNetStat 1.15.0  (landing page)
Vinicius Jardim
git_last_commit: af310a8
git_last_commit_date: 2021-10-26 12:44:15 -0500
nebbiolo1Linux (Ubuntu 20.04.3 LTS) / x86_64  OK    OK    OK  UNNEEDED, same version is already published
riesling1Windows Server 2019 Standard / x64  OK    OK    OK    OK  
merida1macOS 10.14.6 Mojave / x86_64  OK    OK    OK    OK  UNNEEDED, same version is already published
Package 187/2068HostnameOS / ArchINSTALLBUILDCHECKBUILD BIN
BioPlex 1.1.2  (landing page)
Ludwig Geistlinger
git_last_commit: 5653a0e
git_last_commit_date: 2021-10-29 12:27:07 -0500
nebbiolo1Linux (Ubuntu 20.04.3 LTS) / x86_64  OK    OK    OK  UNNEEDED, same version is already published
riesling1Windows Server 2019 Standard / x64  OK    OK    OK    OK  
merida1macOS 10.14.6 Mojave / x86_64  OK    OK    OK    OK  UNNEEDED, same version is already published
Package 188/2068HostnameOS / ArchINSTALLBUILDCHECKBUILD BIN
BioQC 1.23.0  (landing page)
Jitao David Zhang
git_last_commit: cee99b9
git_last_commit_date: 2021-10-26 12:24:03 -0500
nebbiolo1Linux (Ubuntu 20.04.3 LTS) / x86_64  OK    OK    OK  UNNEEDED, same version is already published
riesling1Windows Server 2019 Standard / x64  OK    OK    OK    OK  
merida1macOS 10.14.6 Mojave / x86_64  OK    OK    OK    OK  UNNEEDED, same version is already published
Package 189/2068HostnameOS / ArchINSTALLBUILDCHECKBUILD BIN
biosigner 1.23.0  (landing page)
Philippe Rinaudo , Etienne Thevenot
git_last_commit: 5c5e8ab
git_last_commit_date: 2021-10-26 12:25:59 -0500
nebbiolo1Linux (Ubuntu 20.04.3 LTS) / x86_64  OK    OK    OK  UNNEEDED, same version is already published
riesling1Windows Server 2019 Standard / x64  OK    OK    OK    OK  
merida1macOS 10.14.6 Mojave / x86_64  OK    OK    OK    OK  UNNEEDED, same version is already published
Package 190/2068HostnameOS / ArchINSTALLBUILDCHECKBUILD BIN
Biostrings 2.63.0  (landing page)
H. Pagès
git_last_commit: 1403218
git_last_commit_date: 2021-10-26 11:46:31 -0500
nebbiolo1Linux (Ubuntu 20.04.3 LTS) / x86_64  OK    OK    WARNINGS  UNNEEDED, same version is already published
riesling1Windows Server 2019 Standard / x64  OK    OK    WARNINGS    OK  
merida1macOS 10.14.6 Mojave / x86_64  OK    OK    WARNINGS    OK  UNNEEDED, same version is already published
Package 191/2068HostnameOS / ArchINSTALLBUILDCHECKBUILD BIN
BioTIP 1.9.1  (landing page)
Yuxi (Jennifer) Sun , Zhezhen Wang , and X Holly Yang
git_last_commit: a9b0ccc
git_last_commit_date: 2021-11-17 15:20:20 -0500
nebbiolo1Linux (Ubuntu 20.04.3 LTS) / x86_64  OK    OK    WARNINGS  UNNEEDED, same version is already published
riesling1Windows Server 2019 Standard / x64  OK    OK    WARNINGS    OK  
merida1macOS 10.14.6 Mojave / x86_64  OK    OK    WARNINGS    OK  UNNEEDED, same version is already published
Package 192/2068HostnameOS / ArchINSTALLBUILDCHECKBUILD BIN
biotmle 1.19.0  (landing page)
Nima Hejazi
git_last_commit: 876210b
git_last_commit_date: 2021-10-26 12:34:49 -0500
nebbiolo1Linux (Ubuntu 20.04.3 LTS) / x86_64  OK    OK    OK  UNNEEDED, same version is already published
riesling1Windows Server 2019 Standard / x64  OK    OK    OK    OK  
merida1macOS 10.14.6 Mojave / x86_64  OK    OK    OK    OK  UNNEEDED, same version is already published
Package 193/2068HostnameOS / ArchINSTALLBUILDCHECKBUILD BIN
biovizBase 1.43.1  (landing page)
Michael Lawrence
git_last_commit: d459e88
git_last_commit_date: 2021-11-17 08:55:41 -0500
nebbiolo1Linux (Ubuntu 20.04.3 LTS) / x86_64  OK    OK    WARNINGS  UNNEEDED, same version is already published
riesling1Windows Server 2019 Standard / x64  OK    OK    WARNINGS    OK  
merida1macOS 10.14.6 Mojave / x86_64  OK    OK    WARNINGS    OK  UNNEEDED, same version is already published
Package 194/2068HostnameOS / ArchINSTALLBUILDCHECKBUILD BIN
BiRewire 3.27.0  (landing page)
Andrea Gobbi
git_last_commit: a070fd0
git_last_commit_date: 2021-10-26 12:09:53 -0500
nebbiolo1Linux (Ubuntu 20.04.3 LTS) / x86_64  OK    OK    WARNINGS  UNNEEDED, same version is already published
riesling1Windows Server 2019 Standard / x64  OK    OK    WARNINGS    OK  
merida1macOS 10.14.6 Mojave / x86_64  OK    OK    OK    OK  UNNEEDED, same version is already published
Package 195/2068HostnameOS / ArchINSTALLBUILDCHECKBUILD BIN
biscuiteer 1.9.2  (landing page)
"Jacob Morrison"
git_last_commit: a17221f
git_last_commit_date: 2021-11-20 23:10:29 -0500
nebbiolo1Linux (Ubuntu 20.04.3 LTS) / x86_64  OK    OK    WARNINGS  UNNEEDED, same version is already published
riesling1Windows Server 2019 Standard / x64  OK    OK    WARNINGS    OK  
merida1macOS 10.14.6 Mojave / x86_64  OK    OK    WARNINGS    OK  NO, package depends on 'dmrseq' which is not available
Package 196/2068HostnameOS / ArchINSTALLBUILDCHECKBUILD BIN
BiSeq 1.35.0  (landing page)
Katja Hebestreit
git_last_commit: 167cfff
git_last_commit_date: 2021-10-26 12:07:58 -0500
nebbiolo1Linux (Ubuntu 20.04.3 LTS) / x86_64  OK    OK    OK  UNNEEDED, same version is already published
riesling1Windows Server 2019 Standard / x64  OK    OK    OK    OK  
merida1macOS 10.14.6 Mojave / x86_64  OK    OK    OK    OK  UNNEEDED, same version is already published
Package 197/2068HostnameOS / ArchINSTALLBUILDCHECKBUILD BIN
BitSeq 1.39.0  (landing page)
Antti Honkela , Panagiotis Papastamoulis
git_last_commit: ac331d3
git_last_commit_date: 2021-10-26 12:02:43 -0500
nebbiolo1Linux (Ubuntu 20.04.3 LTS) / x86_64  OK    OK    WARNINGS  UNNEEDED, same version is already published
riesling1Windows Server 2019 Standard / x64  OK    OK    WARNINGS    OK  
merida1macOS 10.14.6 Mojave / x86_64  OK    OK    WARNINGS    OK  UNNEEDED, same version is already published
Package 198/2068HostnameOS / ArchINSTALLBUILDCHECKBUILD BIN
blacksheepr 1.9.0  (landing page)
RugglesLab
git_last_commit: 630e443
git_last_commit_date: 2021-10-26 12:55:06 -0500
nebbiolo1Linux (Ubuntu 20.04.3 LTS) / x86_64  OK    OK    OK  UNNEEDED, same version is already published
riesling1Windows Server 2019 Standard / x64  OK    OK    OK    OK  
merida1macOS 10.14.6 Mojave / x86_64  OK    OK    OK    OK  UNNEEDED, same version is already published
Package 199/2068HostnameOS / ArchINSTALLBUILDCHECKBUILD BIN
blima 1.29.0  (landing page)
Vojtěch Kulvait
git_last_commit: 16f7f23
git_last_commit_date: 2021-10-26 12:13:43 -0500
nebbiolo1Linux (Ubuntu 20.04.3 LTS) / x86_64  OK    OK    WARNINGS  UNNEEDED, same version is already published
riesling1Windows Server 2019 Standard / x64  OK    OK    WARNINGS    OK  
merida1macOS 10.14.6 Mojave / x86_64  OK    OK    WARNINGS    OK  UNNEEDED, same version is already published
Package 200/2068HostnameOS / ArchINSTALLBUILDCHECKBUILD BIN
BLMA 1.19.0  (landing page)
Hung Nguyen
git_last_commit: 2f90d33
git_last_commit_date: 2021-10-26 12:34:52 -0500
nebbiolo1Linux (Ubuntu 20.04.3 LTS) / x86_64  OK    OK    OK  UNNEEDED, same version is already published
riesling1Windows Server 2019 Standard / x64  OK    OK    OK    OK  
merida1macOS 10.14.6 Mojave / x86_64  OK    OK    OK    OK  UNNEEDED, same version is already published
Package 201/2068HostnameOS / ArchINSTALLBUILDCHECKBUILD BIN
BloodGen3Module 1.3.0  (landing page)
Darawan Rinchai
git_last_commit: c517f5a
git_last_commit_date: 2021-10-26 13:10:03 -0500
nebbiolo1Linux (Ubuntu 20.04.3 LTS) / x86_64  OK    OK    WARNINGS  UNNEEDED, same version is already published
riesling1Windows Server 2019 Standard / x64  OK    OK    WARNINGS    OK  
merida1macOS 10.14.6 Mojave / x86_64  OK    OK    WARNINGS    OK  UNNEEDED, same version is already published
Package 202/2068HostnameOS / ArchINSTALLBUILDCHECKBUILD BIN
bluster 1.5.0  (landing page)
Aaron Lun
git_last_commit: 504e9e7
git_last_commit_date: 2021-10-26 13:01:07 -0500
nebbiolo1Linux (Ubuntu 20.04.3 LTS) / x86_64  OK    OK    OK  UNNEEDED, same version is already published
riesling1Windows Server 2019 Standard / x64  OK    OK    OK    OK  
merida1macOS 10.14.6 Mojave / x86_64  OK    OK    OK    OK  UNNEEDED, same version is already published
Package 203/2068HostnameOS / ArchINSTALLBUILDCHECKBUILD BIN
bnbc 1.17.1  (landing page)
Kipper Fletez-Brant
git_last_commit: b299f60
git_last_commit_date: 2021-11-20 23:13:42 -0500
nebbiolo1Linux (Ubuntu 20.04.3 LTS) / x86_64  OK    OK    OK  UNNEEDED, same version is already published
riesling1Windows Server 2019 Standard / x64  OK    OK    OK    OK  
merida1macOS 10.14.6 Mojave / x86_64  OK    OK    OK    OK  UNNEEDED, same version is already published
Package 204/2068HostnameOS / ArchINSTALLBUILDCHECKBUILD BIN
bnem 1.3.0  (landing page)
Martin Pirkl
git_last_commit: ac459bc
git_last_commit_date: 2021-10-26 13:05:36 -0500
nebbiolo1Linux (Ubuntu 20.04.3 LTS) / x86_64  OK    OK    OK  UNNEEDED, same version is already published
riesling1Windows Server 2019 Standard / x64  OK    OK    OK    OK  
merida1macOS 10.14.6 Mojave / x86_64  OK    OK    OK    OK  UNNEEDED, same version is already published
Package 205/2068HostnameOS / ArchINSTALLBUILDCHECKBUILD BIN
BPRMeth 1.21.1  (landing page)
Chantriolnt-Andreas Kapourani
git_last_commit: 1107237
git_last_commit_date: 2021-11-20 23:13:48 -0500
nebbiolo1Linux (Ubuntu 20.04.3 LTS) / x86_64  OK    OK    OK  UNNEEDED, same version is already published
riesling1Windows Server 2019 Standard / x64  OK    OK    OK    OK  
merida1macOS 10.14.6 Mojave / x86_64  OK    OK    OK    OK  UNNEEDED, same version is already published
Package 206/2068HostnameOS / ArchINSTALLBUILDCHECKBUILD BIN
BRAIN 1.41.0  (landing page)
Piotr Dittwald
git_last_commit: 25a5d36
git_last_commit_date: 2021-10-26 12:02:15 -0500
nebbiolo1Linux (Ubuntu 20.04.3 LTS) / x86_64  OK    OK    WARNINGS  UNNEEDED, same version is already published
riesling1Windows Server 2019 Standard / x64  OK    OK    WARNINGS    OK  
merida1macOS 10.14.6 Mojave / x86_64  OK    OK    WARNINGS    OK  UNNEEDED, same version is already published
Package 207/2068HostnameOS / ArchINSTALLBUILDCHECKBUILD BIN
brainflowprobes 1.9.0  (landing page)
Amanda Price
git_last_commit: 65f96c9
git_last_commit_date: 2021-11-22 22:49:05 -0500
nebbiolo1Linux (Ubuntu 20.04.3 LTS) / x86_64  OK    OK    OK  UNNEEDED, same version is already published
riesling1Windows Server 2019 Standard / x64  OK    OK    OK    OK  
merida1macOS 10.14.6 Mojave / x86_64  OK    OK    OK    OK  UNNEEDED, same version is already published
Package 208/2068HostnameOS / ArchINSTALLBUILDCHECKBUILD BIN
BrainSABER 1.5.0  (landing page)
USD Biomedical Engineering
git_last_commit: 5f3a0f5
git_last_commit_date: 2021-10-26 12:59:58 -0500
nebbiolo1Linux (Ubuntu 20.04.3 LTS) / x86_64  OK    OK    OK  UNNEEDED, same version is already published
riesling1Windows Server 2019 Standard / x64  OK    OK    OK    OK  
merida1macOS 10.14.6 Mojave / x86_64  OK    OK    OK    OK  UNNEEDED, same version is already published
Package 209/2068HostnameOS / ArchINSTALLBUILDCHECKBUILD BIN
branchpointer 1.21.0  (landing page)
Beth Signal
git_last_commit: 95272b5
git_last_commit_date: 2021-10-26 12:33:49 -0500
nebbiolo1Linux (Ubuntu 20.04.3 LTS) / x86_64  OK    OK    OK  UNNEEDED, same version is already published
riesling1Windows Server 2019 Standard / x64  OK    OK    OK    OK  
merida1macOS 10.14.6 Mojave / x86_64  OK    OK    OK    OK  UNNEEDED, same version is already published
Package 210/2068HostnameOS / ArchINSTALLBUILDCHECKBUILD BIN
breakpointR 1.13.1  (landing page)
David Porubsky
git_last_commit: 761cf0a
git_last_commit_date: 2021-11-20 23:13:59 -0500
nebbiolo1Linux (Ubuntu 20.04.3 LTS) / x86_64  OK    OK    OK  UNNEEDED, same version is already published
riesling1Windows Server 2019 Standard / x64  OK    OK    OK    OK  
merida1macOS 10.14.6 Mojave / x86_64  OK    OK    OK    OK  UNNEEDED, same version is already published
Package 211/2068HostnameOS / ArchINSTALLBUILDCHECKBUILD BIN
brendaDb 1.9.0  (landing page)
Yi Zhou
git_last_commit: 43ec1f1
git_last_commit_date: 2021-10-26 12:53:39 -0500
nebbiolo1Linux (Ubuntu 20.04.3 LTS) / x86_64  OK    OK    OK  UNNEEDED, same version is already published
riesling1Windows Server 2019 Standard / x64  OK    OK    OK    OK  
merida1macOS 10.14.6 Mojave / x86_64  OK    OK    OK    OK  UNNEEDED, same version is already published
Package 212/2068HostnameOS / ArchINSTALLBUILDCHECKBUILD BIN
BRGenomics 1.7.0  (landing page)
Mike DeBerardine
git_last_commit: 1851a17
git_last_commit_date: 2021-10-26 12:58:20 -0500
nebbiolo1Linux (Ubuntu 20.04.3 LTS) / x86_64  OK    OK    WARNINGS  UNNEEDED, same version is already published
riesling1Windows Server 2019 Standard / x64  OK    OK    WARNINGS    OK  
merida1macOS 10.14.6 Mojave / x86_64  OK    OK    WARNINGS    OK  UNNEEDED, same version is already published
Package 213/2068HostnameOS / ArchINSTALLBUILDCHECKBUILD BIN
bridge 1.59.0  (landing page)
Raphael Gottardo
git_last_commit: 79b7a3a
git_last_commit_date: 2021-10-26 11:48:05 -0500
nebbiolo1Linux (Ubuntu 20.04.3 LTS) / x86_64  OK    OK    WARNINGS  UNNEEDED, same version is already published
riesling1Windows Server 2019 Standard / x64  OK    OK    WARNINGS    OK  
merida1macOS 10.14.6 Mojave / x86_64  OK    OK