Index of /checkResults/3.14/workflows-LATEST/RNAseq123/raw-results/riesling1
Name
Last modified
Size
Description
Parent Directory
-
install-out.txt
12-Apr-2022 10:00
2.0K
install-summary.dcf
12-Apr-2022 10:00
651
buildsrc-out.txt
12-Apr-2022 10:00
921
buildsrc-summary.dcf
12-Apr-2022 10:00
460