Name | Last modified | Size | Description | |
---|---|---|---|---|
Parent Directory | - | |||
install-summary.dcf | 14-Apr-2022 03:50 | 260 | ||
buildsrc-summary.dcf | 14-Apr-2022 03:50 | 416 | ||
checksrc-summary.dcf | 14-Apr-2022 03:50 | 433 | ||
buildsrc-out.txt | 14-Apr-2022 03:50 | 841 | ||
install-out.txt | 14-Apr-2022 03:50 | 950 | ||
checksrc-out.txt | 14-Apr-2022 03:50 | 5.9K | ||