Name | Last modified | Size | Description | |
---|---|---|---|---|
Parent Directory | - | |||
buildsrc-out.txt | 14-Apr-2022 03:50 | 893 | ||
buildsrc-summary.dcf | 14-Apr-2022 03:50 | 435 | ||
checksrc-out.txt | 14-Apr-2022 03:50 | 2.9K | ||
checksrc-summary.dcf | 14-Apr-2022 03:50 | 447 | ||
install-out.txt | 14-Apr-2022 03:50 | 915 | ||
install-summary.dcf | 14-Apr-2022 03:50 | 270 | ||