Name | Last modified | Size | Description | |
---|---|---|---|---|
Parent Directory | - | |||
buildsrc-summary.dcf | 14-Apr-2022 03:50 | 422 | ||
install-out.txt | 14-Apr-2022 03:50 | 961 | ||
install-summary.dcf | 14-Apr-2022 03:50 | 262 | ||
buildsrc-out.txt | 14-Apr-2022 03:50 | 925 | ||
checksrc-out.txt | 14-Apr-2022 03:50 | 4.0K | ||
checksrc-summary.dcf | 14-Apr-2022 03:50 | 431 | ||