Name | Last modified | Size | Description | |
---|---|---|---|---|
Parent Directory | - | |||
install-out.txt | 14-Apr-2022 03:50 | 904 | ||
install-summary.dcf | 14-Apr-2022 03:50 | 284 | ||
buildsrc-out.txt | 14-Apr-2022 03:50 | 956 | ||
buildsrc-summary.dcf | 14-Apr-2022 03:50 | 455 | ||
checksrc-out.txt | 14-Apr-2022 03:50 | 2.9K | ||
checksrc-summary.dcf | 14-Apr-2022 03:50 | 481 | ||