Name | Last modified | Size | Description | |
---|---|---|---|---|
Parent Directory | - | |||
install-out.txt | 14-Apr-2022 03:50 | 968 | ||
install-summary.dcf | 14-Apr-2022 03:50 | 273 | ||
buildsrc-out.txt | 14-Apr-2022 03:50 | 834 | ||
buildsrc-summary.dcf | 14-Apr-2022 03:50 | 438 | ||
checksrc-out.txt | 14-Apr-2022 03:50 | 3.3K | ||
checksrc-summary.dcf | 14-Apr-2022 03:50 | 451 | ||