Index of /checkResults/3.14/data-experiment-LATEST/SingleMoleculeFootprintingData/raw-results
Name
Last modified
Size
Description
Parent Directory
-
info.dcf
14-Apr-2022 03:50
320
nebbiolo2/
14-Apr-2022 03:50
-