Name | Last modified | Size | Description | |
---|---|---|---|---|
Parent Directory | - | |||
install-summary.dcf | 14-Apr-2022 03:50 | 267 | ||
buildsrc-summary.dcf | 14-Apr-2022 03:50 | 429 | ||
checksrc-summary.dcf | 14-Apr-2022 03:50 | 442 | ||
buildsrc-out.txt | 14-Apr-2022 03:50 | 816 | ||
install-out.txt | 14-Apr-2022 03:50 | 946 | ||
checksrc-out.txt | 14-Apr-2022 03:50 | 3.1K | ||