Name | Last modified | Size | Description | |
---|---|---|---|---|
Parent Directory | - | |||
checksrc-summary.dcf | 14-Apr-2022 03:50 | 455 | ||
checksrc-out.txt | 14-Apr-2022 03:50 | 32K | ||
buildsrc-summary.dcf | 14-Apr-2022 03:50 | 440 | ||
buildsrc-out.txt | 14-Apr-2022 03:50 | 65K | ||
install-summary.dcf | 14-Apr-2022 03:50 | 274 | ||
install-out.txt | 14-Apr-2022 03:50 | 971 | ||