Name | Last modified | Size | Description | |
---|---|---|---|---|
Parent Directory | - | |||
buildsrc-out.txt | 14-Apr-2022 03:50 | 829 | ||
buildsrc-summary.dcf | 14-Apr-2022 03:50 | 441 | ||
checksrc-out.txt | 14-Apr-2022 03:50 | 3.1K | ||
checksrc-summary.dcf | 14-Apr-2022 03:50 | 462 | ||
install-out.txt | 14-Apr-2022 03:50 | 1.1K | ||
install-summary.dcf | 14-Apr-2022 03:50 | 275 | ||