Name | Last modified | Size | Description | |
---|---|---|---|---|
Parent Directory | - | |||
install-summary.dcf | 14-Apr-2022 03:50 | 260 | ||
buildsrc-summary.dcf | 14-Apr-2022 03:50 | 418 | ||
checksrc-summary.dcf | 14-Apr-2022 03:50 | 426 | ||
buildsrc-out.txt | 14-Apr-2022 03:50 | 872 | ||
install-out.txt | 14-Apr-2022 03:50 | 950 | ||
checksrc-out.txt | 14-Apr-2022 03:50 | 5.1K | ||