Name | Last modified | Size | Description | |
---|---|---|---|---|
Parent Directory | - | |||
install-out.txt | 14-Apr-2022 03:50 | 895 | ||
install-summary.dcf | 14-Apr-2022 03:50 | 261 | ||
buildsrc-out.txt | 14-Apr-2022 03:50 | 813 | ||
buildsrc-summary.dcf | 14-Apr-2022 03:50 | 421 | ||
checksrc-out.txt | 14-Apr-2022 03:50 | 2.6K | ||
checksrc-summary.dcf | 14-Apr-2022 03:50 | 429 | ||