Name | Last modified | Size | Description | |
---|---|---|---|---|
Parent Directory | - | |||
install-summary.dcf | 14-Apr-2022 03:50 | 266 | ||
install-out.txt | 14-Apr-2022 03:50 | 901 | ||
checksrc-summary.dcf | 14-Apr-2022 03:50 | 439 | ||
checksrc-out.txt | 14-Apr-2022 03:50 | 2.9K | ||
buildsrc-summary.dcf | 14-Apr-2022 03:50 | 428 | ||
buildsrc-out.txt | 14-Apr-2022 03:50 | 885 | ||