Name | Last modified | Size | Description | |
---|---|---|---|---|
Parent Directory | - | |||
install-summary.dcf | 14-Apr-2022 03:50 | 272 | ||
buildsrc-summary.dcf | 14-Apr-2022 03:50 | 437 | ||
checksrc-summary.dcf | 14-Apr-2022 03:50 | 450 | ||
buildsrc-out.txt | 14-Apr-2022 03:50 | 833 | ||
install-out.txt | 14-Apr-2022 03:50 | 1.0K | ||
checksrc-out.txt | 14-Apr-2022 03:50 | 3.3K | ||