Name | Last modified | Size | Description | |
---|---|---|---|---|
Parent Directory | - | |||
install-summary.dcf | 14-Apr-2022 03:50 | 267 | ||
install-out.txt | 14-Apr-2022 03:50 | 959 | ||
checksrc-summary.dcf | 14-Apr-2022 03:50 | 440 | ||
checksrc-out.txt | 14-Apr-2022 03:50 | 6.4K | ||
buildsrc-summary.dcf | 14-Apr-2022 03:50 | 429 | ||
buildsrc-out.txt | 14-Apr-2022 03:50 | 885 | ||