Index of /checkResults/3.14/data-experiment-LATEST/CopyNeutralIMA/raw-results
Name
Last modified
Size
Description
Parent Directory
-
nebbiolo2/
14-Apr-2022 03:50
-
info.dcf
14-Apr-2022 03:50
304