Name | Last modified | Size | Description | |
---|---|---|---|---|
Parent Directory | - | |||
install-summary.dcf | 14-Apr-2022 03:50 | 280 | ||
install-out.txt | 14-Apr-2022 03:50 | 1.0K | ||
checksrc-summary.dcf | 14-Apr-2022 03:50 | 467 | ||
checksrc-out.txt | 14-Apr-2022 03:50 | 3.2K | ||
buildsrc-summary.dcf | 14-Apr-2022 03:50 | 450 | ||
buildsrc-out.txt | 14-Apr-2022 03:50 | 850 | ||