Name | Last modified | Size | Description | |
---|---|---|---|---|
Parent Directory | - | |||
buildsrc-out.txt | 14-Apr-2022 03:50 | 941 | ||
buildsrc-summary.dcf | 14-Apr-2022 03:50 | 470 | ||
checksrc-out.txt | 14-Apr-2022 03:50 | 3.4K | ||
checksrc-summary.dcf | 14-Apr-2022 03:50 | 501 | ||
install-out.txt | 14-Apr-2022 03:50 | 943 | ||
install-summary.dcf | 14-Apr-2022 03:50 | 294 | ||