Name | Last modified | Size | Description | |
---|---|---|---|---|
Parent Directory | - | |||
install-summary.dcf | 14-Apr-2022 03:50 | 288 | ||
buildsrc-summary.dcf | 14-Apr-2022 03:50 | 460 | ||
checksrc-summary.dcf | 14-Apr-2022 03:50 | 482 | ||
buildsrc-out.txt | 14-Apr-2022 03:50 | 865 | ||
install-out.txt | 14-Apr-2022 03:50 | 1.0K | ||
checksrc-out.txt | 14-Apr-2022 03:50 | 3.3K | ||