Back to Build/check report for BioC 3.14 annotations
ABCDEFGHIJKLMNOPQ[R]STUVWXYZ

This page was generated on 2022-01-19 06:00:08 -0500 (Wed, 19 Jan 2022).

HostnameOSArch (*)R versionInstalled pkgs
nebbiolo2Linux (Ubuntu 20.04.4 LTS)x86_644.1.2 (2021-11-01) -- "Bird Hippie" 4328
Click on any hostname to see more info about the system (e.g. compilers)      (*) as reported by 'uname -p', except on Windows and Mac OS X

INSTALL results for rat2302frmavecs on nebbiolo2


To the developers/maintainers of the rat2302frmavecs package:
Make sure to use the following settings in order to reproduce any error or warning you see on this page.

raw results

Package 29/33HostnameOS / ArchINSTALLBUILDCHECK
rat2302frmavecs 0.99.11  (landing page)
Sylvain Gubian
Snapshot Date: 2022-01-19 02:30:01 -0500 (Wed, 19 Jan 2022)
git_url: https://git.bioconductor.org/packages/rat2302frmavecs
git_branch: master
git_last_commit: 68b05d4
git_last_commit_date: 2019-02-07 03:01:49 -0500 (Thu, 07 Feb 2019)
nebbiolo2Linux (Ubuntu 20.04.4 LTS) / x86_64  OK    OK    OK  UNNEEDED, same version is already published

Summary

Package: rat2302frmavecs
Version: 0.99.11
Command: /home/biocbuild/bbs-3.14-bioc/R/bin/R CMD INSTALL rat2302frmavecs
StartedAt: 2022-01-19 03:00:07 -0500 (Wed, 19 Jan 2022)
EndedAt: 2022-01-19 03:00:20 -0500 (Wed, 19 Jan 2022)
EllapsedTime: 13.4 seconds
RetCode: 0
Status:   OK  

Command output

##############################################################################
##############################################################################
###
### Running command:
###
###   /home/biocbuild/bbs-3.14-bioc/R/bin/R CMD INSTALL rat2302frmavecs
###
##############################################################################
##############################################################################


* installing to library ‘/home/biocbuild/bbs-3.14-bioc/R/library’
* installing *source* package ‘rat2302frmavecs’ ...
** using staged installation
** data
** inst
** help
*** installing help indices
** building package indices
** installing vignettes
** testing if installed package can be loaded from temporary location
** testing if installed package can be loaded from final location
** testing if installed package keeps a record of temporary installation path
* DONE (rat2302frmavecs)