Index of /checkResults/3.14/data-annotation-LATEST/phastCons30way.UCSC.hg38/raw-results
Name
Last modified
Size
Description
Parent Directory
-
info.dcf
13-Apr-2022 19:00
303
nebbiolo2/
13-Apr-2022 19:00
-