Back to Build/check report for BioC 3.14 annotations
ABCDEFGHIJKLMN[O]PQRSTUVWXYZ

This page was generated on 2022-01-19 06:00:08 -0500 (Wed, 19 Jan 2022).

HostnameOSArch (*)R versionInstalled pkgs
nebbiolo2Linux (Ubuntu 20.04.4 LTS)x86_644.1.2 (2021-11-01) -- "Bird Hippie" 4328
Click on any hostname to see more info about the system (e.g. compilers)      (*) as reported by 'uname -p', except on Windows and Mac OS X

BUILD results for org.Mxanthus.db on nebbiolo2


To the developers/maintainers of the org.Mxanthus.db package:
Make sure to use the following settings in order to reproduce any error or warning you see on this page.

raw results

Package 26/33HostnameOS / ArchINSTALLBUILDCHECK
org.Mxanthus.db 1.0.27  (landing page)
Eduardo Illueca Fernández
Snapshot Date: 2022-01-19 02:30:01 -0500 (Wed, 19 Jan 2022)
git_url: https://git.bioconductor.org/packages/org.Mxanthus.db
git_branch: master
git_last_commit: a17100f
git_last_commit_date: 2020-01-20 09:44:36 -0500 (Mon, 20 Jan 2020)
nebbiolo2Linux (Ubuntu 20.04.4 LTS) / x86_64  OK    OK    OK  UNNEEDED, same version is already published

Summary

Package: org.Mxanthus.db
Version: 1.0.27
Command: /home/biocbuild/bbs-3.14-bioc/R/bin/R CMD build --keep-empty-dirs --no-resave-data org.Mxanthus.db
StartedAt: 2022-01-19 03:01:19 -0500 (Wed, 19 Jan 2022)
EndedAt: 2022-01-19 03:01:50 -0500 (Wed, 19 Jan 2022)
EllapsedTime: 30.5 seconds
RetCode: 0
Status:   OK  
PackageFile: org.Mxanthus.db_1.0.27.tar.gz
PackageFileSize: 407.1 KiB

Command output

##############################################################################
##############################################################################
###
### Running command:
###
###   /home/biocbuild/bbs-3.14-bioc/R/bin/R CMD build --keep-empty-dirs --no-resave-data org.Mxanthus.db
###
##############################################################################
##############################################################################


* checking for file ‘org.Mxanthus.db/DESCRIPTION’ ... OK
* preparing ‘org.Mxanthus.db’:
* checking DESCRIPTION meta-information ... OK
* installing the package to build vignettes
* creating vignettes ... OK
Warning: ‘inst/doc’ files
    ‘org.Mxanthus.db.Rmd’, ‘org.Mxanthus.db.html’
  ignored as vignettes have been rebuilt.
  Run R CMD build with --no-build-vignettes to prevent rebuilding.
* checking for LF line-endings in source and make files and shell scripts
* checking for empty or unneeded directories
* building ‘org.Mxanthus.db_1.0.27.tar.gz’