Back to Build/check report for BioC 3.14 annotations
ABCDEFGHIJKL[M]NOPQRSTUVWXYZ

This page was generated on 2022-01-19 06:00:08 -0500 (Wed, 19 Jan 2022).

HostnameOSArch (*)R versionInstalled pkgs
nebbiolo2Linux (Ubuntu 20.04.4 LTS)x86_644.1.2 (2021-11-01) -- "Bird Hippie" 4328
Click on any hostname to see more info about the system (e.g. compilers)      (*) as reported by 'uname -p', except on Windows and Mac OS X

INSTALL results for metaboliteIDmapping on nebbiolo2


To the developers/maintainers of the metaboliteIDmapping package:
Make sure to use the following settings in order to reproduce any error or warning you see on this page.

raw results

Package 24/33HostnameOS / ArchINSTALLBUILDCHECK
metaboliteIDmapping 0.99.10  (landing page)
Sebastian Canzler
Snapshot Date: 2022-01-19 02:30:01 -0500 (Wed, 19 Jan 2022)
git_url: https://git.bioconductor.org/packages/metaboliteIDmapping
git_branch: master
git_last_commit: 97d7d72
git_last_commit_date: 2021-05-10 03:06:59 -0500 (Mon, 10 May 2021)
nebbiolo2Linux (Ubuntu 20.04.4 LTS) / x86_64  OK    OK    OK  NO, version to propagate (0.99.10) is lower than published version (1.0.0)

Summary

Package: metaboliteIDmapping
Version: 0.99.10
Command: /home/biocbuild/bbs-3.14-bioc/R/bin/R CMD INSTALL metaboliteIDmapping
StartedAt: 2022-01-19 03:00:07 -0500 (Wed, 19 Jan 2022)
EndedAt: 2022-01-19 03:00:45 -0500 (Wed, 19 Jan 2022)
EllapsedTime: 37.5 seconds
RetCode: 0
Status:   OK  

Command output

##############################################################################
##############################################################################
###
### Running command:
###
###   /home/biocbuild/bbs-3.14-bioc/R/bin/R CMD INSTALL metaboliteIDmapping
###
##############################################################################
##############################################################################


* installing to library ‘/home/biocbuild/bbs-3.14-bioc/R/library’
* installing *source* package ‘metaboliteIDmapping’ ...
** using staged installation
** R
** inst
** byte-compile and prepare package for lazy loading
** help
*** installing help indices
** building package indices
** installing vignettes
** testing if installed package can be loaded from temporary location
snapshotDate(): 2021-10-20
loading from cache
** testing if installed package can be loaded from final location
snapshotDate(): 2021-10-20
loading from cache
** testing if installed package keeps a record of temporary installation path
* DONE (metaboliteIDmapping)