Back to Build/check report for BioC 3.14 annotations
ABCDEFG[H]IJKLMNOPQRSTUVWXYZ

This page was generated on 2022-01-19 06:00:08 -0500 (Wed, 19 Jan 2022).

HostnameOSArch (*)R versionInstalled pkgs
nebbiolo2Linux (Ubuntu 20.04.4 LTS)x86_644.1.2 (2021-11-01) -- "Bird Hippie" 4328
Click on any hostname to see more info about the system (e.g. compilers)      (*) as reported by 'uname -p', except on Windows and Mac OS X

BUILD results for hpAnnot on nebbiolo2


To the developers/maintainers of the hpAnnot package:
Make sure to use the following settings in order to reproduce any error or warning you see on this page.

raw results

Package 22/33HostnameOS / ArchINSTALLBUILDCHECK
hpAnnot 1.1.0  (landing page)
Marta R. Hidalgo
Snapshot Date: 2022-01-19 02:30:01 -0500 (Wed, 19 Jan 2022)
git_url: https://git.bioconductor.org/packages/hpAnnot
git_branch: master
git_last_commit: 640c19e
git_last_commit_date: 2021-02-09 11:23:17 -0500 (Tue, 09 Feb 2021)
nebbiolo2Linux (Ubuntu 20.04.4 LTS) / x86_64  OK    OK    OK  UNNEEDED, same version is already published

Summary

Package: hpAnnot
Version: 1.1.0
Command: /home/biocbuild/bbs-3.14-bioc/R/bin/R CMD build --keep-empty-dirs --no-resave-data hpAnnot
StartedAt: 2022-01-19 03:01:05 -0500 (Wed, 19 Jan 2022)
EndedAt: 2022-01-19 03:01:32 -0500 (Wed, 19 Jan 2022)
EllapsedTime: 26.5 seconds
RetCode: 0
Status:   OK  
PackageFile: hpAnnot_1.1.0.tar.gz
PackageFileSize: 228.8 MiB

Command output

##############################################################################
##############################################################################
###
### Running command:
###
###   /home/biocbuild/bbs-3.14-bioc/R/bin/R CMD build --keep-empty-dirs --no-resave-data hpAnnot
###
##############################################################################
##############################################################################


* checking for file ‘hpAnnot/DESCRIPTION’ ... OK
* preparing ‘hpAnnot’:
* checking DESCRIPTION meta-information ... OK
* installing the package to build vignettes
* creating vignettes ... OK
Warning: ‘inst/doc’ files
    ‘hpAnnot-vignette.Rmd’, ‘hpAnnot-vignette.pdf’,  ‘hpAnnot-vignette.R’
  ignored as vignettes have been rebuilt.
  Run R CMD build with --no-build-vignettes to prevent rebuilding.
* checking for LF line-endings in source and make files and shell scripts
* checking for empty or unneeded directories
Omitted ‘LazyData’ from DESCRIPTION
* building ‘hpAnnot_1.1.0.tar.gz’