Back to Build/check report for BioC 3.14 annotations
ABCDEF[G]HIJKLMNOPQRSTUVWXYZ

This page was generated on 2022-01-19 06:00:08 -0500 (Wed, 19 Jan 2022).

HostnameOSArch (*)R versionInstalled pkgs
nebbiolo2Linux (Ubuntu 20.04.4 LTS)x86_644.1.2 (2021-11-01) -- "Bird Hippie" 4328
Click on any hostname to see more info about the system (e.g. compilers)      (*) as reported by 'uname -p', except on Windows and Mac OS X

INSTALL results for gwascatData on nebbiolo2


To the developers/maintainers of the gwascatData package:
Make sure to use the following settings in order to reproduce any error or warning you see on this page.

raw results

Package 21/33HostnameOS / ArchINSTALLBUILDCHECK
gwascatData 0.99.6  (landing page)
Sara Stankiewicz
Snapshot Date: 2022-01-19 02:30:01 -0500 (Wed, 19 Jan 2022)
git_url: https://git.bioconductor.org/packages/gwascatData
git_branch: master
git_last_commit: cf9495a
git_last_commit_date: 2021-05-07 12:20:10 -0500 (Fri, 07 May 2021)
nebbiolo2Linux (Ubuntu 20.04.4 LTS) / x86_64  OK    OK    OK  UNNEEDED, same version is already published

Summary

Package: gwascatData
Version: 0.99.6
Command: /home/biocbuild/bbs-3.14-bioc/R/bin/R CMD INSTALL gwascatData
StartedAt: 2022-01-19 03:00:05 -0500 (Wed, 19 Jan 2022)
EndedAt: 2022-01-19 03:00:09 -0500 (Wed, 19 Jan 2022)
EllapsedTime: 3.1 seconds
RetCode: 0
Status:   OK  

Command output

##############################################################################
##############################################################################
###
### Running command:
###
###   /home/biocbuild/bbs-3.14-bioc/R/bin/R CMD INSTALL gwascatData
###
##############################################################################
##############################################################################


* installing to library ‘/home/biocbuild/bbs-3.14-bioc/R/library’
* installing *source* package ‘gwascatData’ ...
** using staged installation
** inst
** help
No man pages found in package  ‘gwascatData’ 
*** installing help indices
** building package indices
** installing vignettes
** testing if installed package can be loaded from temporary location
** testing if installed package can be loaded from final location
** testing if installed package keeps a record of temporary installation path
* DONE (gwascatData)